BEGIN:VCALENDAR
VERSION:2.0
CALSCALE:GREGORIAN
METHOD:PUBLISH
BEGIN:VEVENT
SUMMARY:31ème Colloque de la Saint-Yves
DTSTART:20260516T070000Z
DTSTAMP:20260419T213858Z
CATEGORIES:
DESCRIPTION:31ème Colloque de la Saint-Yves - samedi 16 mai 2026 à TREGU
 IER \n"La Justice économique\, une justice à visage humain"\nsous la pr
 ésidence de Monsieur le Président Christophe BAYLE\nConférence des Bât
 onniers de France et d'Outre-Mer
LOCATION:  
ORGANIZER:ORDRE DES AVOCATS
END:VEVENT
END:VCALENDAR
