BEGIN:VCALENDAR
VERSION:2.0
CALSCALE:GREGORIAN
METHOD:PUBLISH
BEGIN:VEVENT
SUMMARY:Öffentliche Probe der Neuen Philharmonie
DTSTART:20260424T124000Z
DTSTAMP:20260421T175708Z
CATEGORIES:
DESCRIPTION:Die Probe eröffnet die Ouvertüre von Gioachino Rossini zur O
 per „Wilhelm Tell“\, voller Spannung\, dichter Atmosphäre und mit dem
  berühmten galoppierenden Finale. Kaum ein anderes Werk verbindet so übe
 rzeugend die lyrische Stimmung der Natur mit opernhafter Dramatik. Ein bes
 onderer Teil des Konzertprogramms ist die Generalprobe vor der Weltpremier
 e des Konzerts für Bratsche von Lutz Schumacher. Dieses dreisätzige Werk
  stellt die Bratsche in den Mittelpunkt und bietet diesem oft unterschätz
 ten Instrument eine breite solistische Bühne voller Intimität\, warmen K
 langs und virtuoser Ausdruckskraft. Die Solistin\, die spanische Bratschis
 tin Luz Elisabeth Sanchez\, entfaltet mit feinem Gespür für Klangfarben 
 und emotionale Tiefe das gesamte Spektrum des Instruments. Den Abschluss b
 ildet Beethovens Sinfonie Nr. 6 „Pastorale“. Mit beeindruckender mus
 ikalischer Malerei zeichnet Ludwig van Beethoven Szenen des Landlebens\, N
 aturerlebnisse und einen Gewittersturm nach – ein Werk\, das zugleich Ru
 he\, Bewegung und poetische Kraft ausstrahlt.\nDie Neue Philharmonie ist e
 in unabhängiges Kollektiv junger professioneller Musiker. Neben Auftritte
 n in Konzertsälen verfolgt das Orchester das Ziel\, klassische Musik auch
  in kleinere Städte und ländliche Regionen zu bringen. Es engagiert sich
  in der Arbeit mit Kindern\, führt Bildungsprojekte durch und vertritt di
 e Überzeugung\, dass Musik Menschen unterschiedlicher Generationen und Le
 benswege verbinden kann.\nKünstlerischer Leiter und Dirigent des Orcheste
 rs ist Andreas Schulz. Ausgebildet als Pianist und Dirigent\, studierte er
  in Berlin und arbeitete mit jungen Musikern in Weimar\, Rostock und ander
 en Städten. Seine musikalische Arbeit ist geprägt von einem lebendigen Z
 ugang\, der sowohl den historischen Kontext als auch die Menschen in den M
 ittelpunkt stellt – diejenigen\, die Musik machen\, und jene\, die sie h
 ören.\n 
GEO:52.5135209;13.3888922
LOCATION:176-179 Friedrichstraße 10117 Berlin - DE
ORGANIZER:Russisches Haus in Berlin
END:VEVENT
END:VCALENDAR
