BEGIN:VCALENDAR
VERSION:2.0
CALSCALE:GREGORIAN
METHOD:PUBLISH
BEGIN:VEVENT
SUMMARY:Atelier Pop Vinyle
DTSTART:20260426T090000Z
DTEND:20260426T102000Z
DTSTAMP:20260422T153124Z
CATEGORIES:
DESCRIPTION:\nSalut les créatifs !\n\n	Pour cette nouvelle session \, je 
 vous propose un atelier de peinture pop sur  vinyle .\n\n	De quoi se lais
 ser aller à sa créativité sur le thème du *Pop Printemps* et les coule
 urs du mois d'avril.\n\n	Pas besoin de savoir dessiner \, vous serez guid
 és pas à pas.\n\n	 \n\nRéservation obligatoire pour l'organisation\n\n
 	 \n\nL'atelier est accessible à tous \, Le tarif comprend tout  le mat
 ériel et la bonne humeur \;-)\n\n(hors boissons\, à commander sur place 
 )\n\nVous repartez avec votre oeuvre.\n\n	 \n\n	Vous pouvez participer en
  solo\, entre amis ou en famille.\n\n	Le but est de profiter de ce moment 
 de création \, de partage et de rencontre dans un lieu chaleureux.\n\n	 
 \n\n	Belle journée ! \n\n	Et à bientôt\n\n	 \n\n	Sabrina\n\n	 \n\n	
  \n
LOCATION:16 rue de l'Escale 17000 La Rochelle - FR
ORGANIZER:“ EI “ Sabrina BENHAFID  
END:VEVENT
END:VCALENDAR
