BEGIN:VCALENDAR
VERSION:2.0
CALSCALE:GREGORIAN
METHOD:PUBLISH
BEGIN:VEVENT
SUMMARY:Film: Lermontov
DTSTART:20260423T170000Z
DTSTAMP:20260421T173538Z
CATEGORIES:
DESCRIPTION:Pjatigorsk\, am Fuß des Berges Maschuk\, am Morgen des 15. Ju
 li 1841. Noch vor zwei Tagen waren Miсhail Lermontov und Nikolai Martynow
  Freunde\, jetzt jedoch unversöhnliche Gegner. Bis zu ihrem Duell bleiben
  nur wenige Stunden\, doch keiner der Freunde\, Verwandten oder Bekannten 
 des Dichters denkt an ein tragisches Ende.\nRegie: Bakur BakuradzeMit: Ily
 a Ozolin\, Evgeny Romantsov\, Vera Engalycheva\, Dmitry Solomykin\, Andrey
  Maksimov\, Urshula Malka\, Egor Anisimov\, Fyodor Kudryashov\, Bogdan Gol
 oshchuk\, Semyon Aleshin\nDrama in russischer Sprache mit englischen Unter
 titelnRussland\, 2025FSK: 18+
GEO:52.5135209;13.3888922
LOCATION:176-179 Friedrichstraße 10117 Berlin - DE
ORGANIZER:Russisches Haus in Berlin
END:VEVENT
END:VCALENDAR
