BEGIN:VCALENDAR
VERSION:2.0
CALSCALE:GREGORIAN
METHOD:PUBLISH
BEGIN:VEVENT
SUMMARY:Film: Yaga aus heiterem Himmel
DTSTART:20260428T170000Z
DTSTAMP:20260421T173538Z
CATEGORIES:
DESCRIPTION:Petja\, ein zehnjähriger Junge\, bekommt eine neue Erzieherin
  – seltsam\, grantig\, aber unglaublich charmant. Schnell merkt er: sie 
 ist anders als alle anderen. Sie ist eine „Nanny undercover“\, in Wahr
 heit jedoch Yaga. Die legendäre Hexe\, die ihren Mörser verloren hat und
  sich unter den Menschen versteckt. Nur Petja kann ihr jetzt helfen\, übe
 r Koschei zu siegen und in die Welt der Magie zurückzukehren\, und Yaga k
 ann dem Jungen beibringen zu fliegen – im Mörser und durchs Leben.\nReg
 ie: Aleksandr VoitinskyMit: Svetlana Khodchenkova\, Yuriy Kolokolnikov\, A
 leksandr Samusev\, Denis Prytkov\, Veronika Timofeeva\, Maksim Lagashkin\,
  Feodor Kirsanov\, Violetta Antonova\, Irina Romanova\, Dmitry Kondratkov\
 nFantasy-Komödie in russischer Sprache mit englischen UntertitelnRussland
 \, 2025FSK: 6+
GEO:52.5135209;13.3888922
LOCATION:176-179 Friedrichstraße 10117 Berlin - DE
ORGANIZER:Russisches Haus in Berlin
END:VEVENT
END:VCALENDAR
