BEGIN:VCALENDAR
VERSION:2.0
CALSCALE:GREGORIAN
METHOD:PUBLISH
BEGIN:VEVENT
SUMMARY:Film: Karusa
DTSTART:20260430T170000Z
DTSTAMP:20260421T184357Z
CATEGORIES:
DESCRIPTION:Jahr 1939. Im Leben des kleinen Mitya taucht eines Tages ein t
 reuer Freund auf – ein Hund namens Karusa. Doch das Glück währt nicht 
 lange\, denn der Krieg bricht aus. Leningrad gerät in die Blockade\, die 
 Menschen sterben an Hunger. Dann beginnt Karusa\, inzwischen erwachsen\, s
 tark und klug\, Nahrung für die Bewohner zu besorgen. Inspiriert von ihre
 m Mut beschließt Mitya zu helfen: Zusammen können sie mehr finden. Eines
  Tages werden sie bei einem gefährlichen Ausflug von den Deutschen entdec
 kt.\nRegie: Ivan KharatyanMit: Svetlana Ivanova\, Mark-Malik Murashkin\, A
 leksandr Baluyev\, Ivan Kolesnikov\, Maria Abramova\, Konstantin Adaev\, S
 ergey Migitsko\, Svetlana Smirnova-Martsinkevich\, Andrey Kharybin\, Dmitr
 y Kharatyan\nFamiliendrama in russischer Sprache mit englischen Untertitel
 nRussland\, 2025FSK: 6+
GEO:52.5135209;13.3888922
LOCATION:176-179 Friedrichstraße 10117 Berlin - DE
ORGANIZER:Russisches Haus in Berlin
END:VEVENT
END:VCALENDAR
