BEGIN:VCALENDAR
VERSION:2.0
CALSCALE:GREGORIAN
METHOD:PUBLISH
BEGIN:VEVENT
SUMMARY:Projection de WOMAN au Vox - soirée caritative
DTSTART:20260430T173000Z
DTEND:20260430T201500Z
DTSTAMP:20260423T150111Z
CATEGORIES:
DESCRIPTION:\n	Le Rotary e-Club Agora vous invite à une projection du fil
 m WOMAN (2020) réalisé par ANASTASIA MIKOVA & YANN ARTHUS-BERTRAND le 30
  avril 2026 à 19h30 au cinéma le VOX à Strasbourg\, pour soutenir l’a
 ssociation LE PÉLICAN.\n\n	"Le Pélican" a été créé en Alsace par Ari
 ane et Jacques Hiriart en 2002 pour apporter une aide concrète et morale 
 aux plus démunis\, par l'éducation et l'assistance nutritionnelle. L’O
 NG œuvre en particulier en faveur des femmes\, des enfants et des sourds-
 muets de Kaboul pour leur donner un espoir et un avenir.\n\n	En Afghanist
 an\, la vie des femmes se résume à la pauvreté\, aux mariages précoces
 \, parfois à la violence et à un accès interdit à l’éducation (dès
  12 ans)\n\nEn France\, Le Pélican est une association\, basée près 
 de Colmar\, composée de bénévoles.\n\nEn Afghanistan\, elle gère 6 é
 coles\, dont plusieurs pour les sourds et les handicapés.\n\n	La projecti
 on commencera à 19h30 précise avec un placement libre et sera suivie d
 ’un moment d’échange avec les membres de l’association. (Durée du 
 film : 1h48).\n\n	L’entrée est gratuite sur réservation via le lien c
 i-dessus\, un plateau sera à votre disposition pour recevoir vos génére
 ux dons\, en espèces ou par carte bancaire.\n\n	Les membres du Rotary e-C
 lub Agora et de l’association Le Pélican se réjouissent à l’avance 
 de votre présence\, qui contribuera au succès de cette opération en fav
 eur de la défense des droits des femmes.\n\n	 \n
LOCATION:17 Rue des Francs-Bourgeois 67000 Strasbourg - FR
ORGANIZER:ROTARY E-CLUB AGORA
END:VEVENT
END:VCALENDAR
