BEGIN:VCALENDAR
VERSION:2.0
CALSCALE:GREGORIAN
METHOD:PUBLISH
BEGIN:VEVENT
SUMMARY:LA MÒSSA
DTSTART:20261016T183000Z
DTSTAMP:20260420T054423Z
CATEGORIES:
DESCRIPTION:\n∆▼ LA MÒSSA ∆▼ [ voix ]\n~ Jazz-club ~\n\nVOIX ET P
 ERCUSSIONS\nLa Mòssa est un mouvement perpétuel\, un tourbillon polyphon
 ique et percussif. Abreuvées à la source de répertoires traditionnels\,
  elles nous offrent aujourd’hui un nouveau plongeon. En créant un set d
 e compositions bien ancrées dans le présent\, ces quatre artistes boulev
 ersent avec plus d’âpreté l’apparente naïveté de rythmiques et de 
 mélodies venues de traditions séculaires. A la recherche de sonorité pl
 us rugueuse\, elles convoquent avec force les percussions qui deviennent u
 ne cinquième voix. Un jubilatoire festin musical\, tout à la fois subtil
 \, fiévreux et engagé !
LOCATION:Ouverture des portes à 20h00   - FR
ORGANIZER:Service Compris
END:VEVENT
END:VCALENDAR
