BEGIN:VCALENDAR
VERSION:2.0
CALSCALE:GREGORIAN
METHOD:PUBLISH
BEGIN:VEVENT
SUMMARY:Les 20 ans du Karene
DTSTART:20260612T170000Z
DTEND:20260612T223000Z
DTSTAMP:20260422T120103Z
CATEGORIES:
DESCRIPTION:\nLes 20 ans du Karene\n\nVenez passer une soirée d'été exc
 eptionnelle dans le jardin du KARENE.\n\nDresscode " Tenue de Gala "\n\nFa
 ites nous rêver en dévoilant vos plus belle tenues\n\nPour célébrer no
 s 20 ans\, une coupe de champagne vous sera offerte dès votre arrivée. 
 \n\nTAPAS - ROSÉ - CHAMPAGNE - COCKTAIL - \n\nAmbiance musicale dès 19H
  avec "Lionel Christino"\n\nLa Team du Karène\n
LOCATION:455 rue du Soleil 26750 Saint Paul les Romans - FR
ORGANIZER:HOTEL KARENE
END:VEVENT
END:VCALENDAR
