BEGIN:VCALENDAR
VERSION:2.0
CALSCALE:GREGORIAN
METHOD:PUBLISH
BEGIN:VEVENT
SUMMARY:Atelier PRISE DE PAROLE EN PUBLIC 4 mai 2026 |  Masques et Sincé
 rité 
DTSTART:20260504T160000Z
DTEND:20260504T180000Z
DTSTAMP:20260420T183413Z
CATEGORIES:
DESCRIPTION:\n \n\nAtelier Prise de Parole en Public N2\n\n« Masques et 
 Sincérité » : \n\nTout ce que nous pensons se voit. Tout ce qui se voi
 t donne à penser. Nous nous attacherons à prendre conscience de ce que n
 otre image extérieure donne à voir et à penser et comment nous pouvons 
 avancer dans cette maîtrise intérieure\, puis extérieure du paraître.\
 n\n« De la prise de parole… à l’éloquence »\n\nSituations : bar
 re – rdv clientelle – réunion – colloque\n\n \n\nPatricia SAMUEL 
 : Formatrice Voix – Prise de parole en public. Comédienne – chanteuse
 .\n\nFranck GERVAIS : Formateur jeu. Comédien\, metteur en scène\, comp
 ositeur.\n\nLaure BONTAZ ou Amélie MEUNIER: Formatrice : Corps\, danse
 \, posture.\n\nDov MILSTEIN : Ancien Avocat\, comédien\, chanteur. Forma
 teur éloquence.\n\nOury ATTIA : Avocat\, formateur construction du disco
 urs.\n\n \n\nComment se prépare-t-on pour une Prise de Parole en Public
  ?\n\nNous vous proposons une série de 6 sessions de travail\, pour vous
  sentir plus détendus et mieux armés lors de vos prises de parole en pub
 lic\, en rendez-vous clientèle\, en plaidoirie.\n\nTout au long de ces at
 eliers\, dirigés par des formateurs professionnels\, comédiens ou avocat
 s\, nous tâcherons d’une part de revisiter les éléments indispensable
 s à la bonne compréhension de notre fonctionnement corporel\, vocal\, é
 motionnel\, et cognitif \; et d’autre part de comprendre comment dével
 opper l’impact de notre discours face à la demande et aux attentes de n
 otre interlocuteur\, de notre public.\n\nComment prépare-t-on sa voix po
 ur une prise de parole en public ? Comment positionner notre corps ? Comm
 ent s’installer dans un état émotionnel favorable ? (ce dernier point
  sera plus largement développé dans l’atelier « gestion du stress 
 »).\n\nIl y a des points communs dans la préparation et dans l’exécut
 ion de la performance d’une prise de parole en public\, devant un client
  autant que devant un tribunal. Ces éléments essentiels peuvent s’entr
 ainer et se mettre en place avec une approche pragmatique adaptée à votr
 e personnalité\, à votre corps.\n\nVous pourrez par exemple rapidement a
 ugmenter le volume et le placement de votre voix\, développer l’agilit
 é du corps\, augmenter vos sensations de détente\, renforcer votre confi
 ance\, affiner vos techniques d’argumentation ou de synthétisation et e
 n vérifier l’impact sur votre discours.\n\n---\n\n lundi 13 avril 2026
  : Patricia : \n\nAtelier Prise de Parole en Public 1 : \n\n« Technique
 s de voix et Conscience du corps\, partie1 » : \n\nComment donner de la 
 voix\, ouvrir le corps\, adapter la respiration\,  l’articulation\, les
  intonations et marquer des reliefs dans le discours. \n\nNous travailler
 ons sur des exemples de textes fournis + vous apporterez un texte de votre
  choix (plaidoirie\, discours\, noté de conférence\, présentation orale
 …).\n\n \n\n \n\n- lundi 4 mai : Franck\n\nAtelier Prise de Parole en 
 Public N2\n\n« Masques et Sincérité » : \n\nTout ce que nous pensons 
 se voit. Tout ce qui se voit donne à penser. Nous nous attacherons à pre
 ndre conscience de ce que notre image extérieure donne à voir et à pens
 er et comment nous pouvons avancer dans cette maîtrise intérieure\, puis
  extérieure du paraître.\n\n \n\n \n\n- lundi 18 mai : Franck\n\nAteli
 er Prise de Parole en Public N3 \n\n« Improvisations » : \n\nL’art d
 e libérer l’imaginaire\, trouver des exemples et des appuis du discours
 \, rebondir sur une ligne d’argumentation … cela s’entraîne. C’es
 t l’art de l’improvisation. \n\n \n\n \n\n- lundi 1er Juin : Patric
 ia\n\nAtelier Prise de Parole en Public N4: \n\n« Techniques de voix et 
 Conscience du corps\, partie 2 : Le relief dans le discours » : \n\nComm
 ent prendre la parole \, la donner et la reprendre\, donner du relief à s
 on discours pour le rendre palpitant ou neutre\, maitriser les pauses\, le
 s inflexions de voix\, le rythme et le débit de la parole. Entraînement 
 sur textes fournis + textes personnels que vous apporterez. \n\n \n\n \
 n\n- lundi 15 juin : Patricia \n\nAtelier Prise de Parole en Public N5 \
 n\n« Intentions et Emotions »\n\nComment atteindre son objectif: précis
 er les intentions\, utiliser les leviers émotionnels\,  maîtriser la fo
 rme et le fond »\n\n \n\n \n\n- lundi 29 juin : Patricia \n\nAtelier P
 rise de Parole en Public N6\n\n« Le débat » \n\nEntraînements sur l
 ’argumentation et la posture:\n\npensée claire et brouillage de pistes\
 , bonne ou mauvaise foi\, punch lignes\, l’humour ou agressivité\, qui 
 gagne à la fin ? \n\nEntraînement sur textes personnels \n\n \n\n	 \
 n
LOCATION:179-191 avenue Joliot-Curie 92000 Nanterre - FR
ORGANIZER:Barreau et CARPA des Hauts-de-Seine
END:VEVENT
END:VCALENDAR
