BEGIN:VCALENDAR
VERSION:2.0
CALSCALE:GREGORIAN
METHOD:PUBLISH
BEGIN:VEVENT
SUMMARY:Légende de Mi - Mantes-la-Jolie
DTSTART:20260530T173000Z
DTSTAMP:20260420T065804Z
CATEGORIES:
DESCRIPTION:Un conte pour adultes (accessible dès 10 ans)\, présenté pa
 r Alain Auderset\, qui s’accompagne à la guitare\, et illustré en dire
 ct par Priscille de Prins.
GEO:48.9991336;1.6871614
LOCATION:41 Boulevard Georges Clemenceau 78200 Mantes-la-Jolie - FR
ORGANIZER:Productions Auderset SARL
END:VEVENT
END:VCALENDAR
