BEGIN:VCALENDAR
VERSION:2.0
CALSCALE:GREGORIAN
METHOD:PUBLISH
BEGIN:VEVENT
SUMMARY:Un exemple de projet industriel franco-allemand réussi - EPCC
DTSTART:20260429T143000Z
DTEND:20260429T173000Z
DTSTAMP:20260421T015950Z
CATEGORIES:
DESCRIPTION:\nLe CAFA-RSO vous invite à découvrir l’Energy Production 
 Center Chalampé (EPCC)\, exploité par B+T Energie France sur le site d
 ’Alsachimie\, à travers la visite d’un projet industriel franco-allem
 and exemplaire.\n\n	Mise en service en 2023\, cette unité pionnière en F
 rance valorise des déchets non recyclables pour les transformer en vapeur
  et contribuer à la décarbonation du site.\n\n	La rencontre permettra de
  mieux comprendre l’implantation en France d’un modèle industriel ép
 rouvé en Allemagne\, à travers la présentation du projet par Marie-Hél
 ène Schneider\, Directrice générale des filiales françaises du groupe 
 B+T\, suivie d’une visite du site et d’un temps d’échanges convivia
 l.\n\nAttention : capacité limitée à 25 participants.\nConsignes de sé
 curité : pièce d’identité obligatoire\, vêtements solides\, chaussur
 es fermées. Visite à pied avec escaliers et passages en hauteur. EPI fou
 rnis sur place.\n\n	 \n\nAvis de Photographie\n\n	Veuillez noter que des 
 photos et vidéos seront prises tout au long de l'événement pour capture
 r les moments mémorables et les partager avec notre communauté. En parti
 cipant à l'événement\, vous acceptez que votre image soit prise et util
 isée à des fins de communication et de promotion. \n\n	‍******\n\nDer
  CAFA-RSO lädt Sie ein\, das Energy Production Center Chalampé (EPCC)\, 
 betrieben von B+T Energie France auf dem Gelände von Alsachimie\, im Rahm
 en einer Besichtigung eines beispielhaften deutsch-französischen Industri
 eprojekts kennenzulernen.\n\n	Die 2023 in Betrieb genommene Anlage ist in 
 Frankreich wegweisend und verwertet nicht recycelbare Abfälle energetisch
 \, um daraus Dampf zu erzeugen und so zur Dekarbonisierung des Standorts b
 eizutragen.\n\n	Die Veranstaltung bietet die Gelegenheit\, die Ansiedlung 
 eines in Deutschland seit vielen Jahren bewährten Industriemodells in Fra
 nkreich besser zu verstehen – durch die Vorstellung des Projekts durch M
 arie-Hélène Schneider\, Geschäftsführerin der französischen Tochterge
 sellschaften der B+T-Gruppe\, gefolgt von einer Besichtigung des Standorts
  und einem geselligen Austausch.\n\nAchtung: begrenzte Teilnehmerzahl auf 
 25 Personen.\nSicherheitsvorgaben: Personalausweis verpflichtend\, robuste
  Kleidung und geschlossenes Schuhwerk erforderlich. Die Besichtigung erfol
 gt zu Fuß und beinhaltet Treppen sowie erhöhte Laufwege. Die persönlich
 e Schutzausrüstung wird vor Ort gestellt.\n\n\nHinweise zur Fotografie\n\
 n	 \n\n	Bitte beachten Sie\, dass während der gesamten Veranstaltung Fot
 os und Videos gemacht werden\, um denkwürdige Momente festzuhalten und si
 e mit unserer Gemeinschaft zu teilen. Durch die Teilnahme an der Veranstal
 tung erklären Sie sich damit einverstanden\, dass Ihr Bild aufgenommen un
 d zu Kommunikations- und Werbezwecken verwendet wird. \n
LOCATION:Route départementale 52 68490  Chalampé - FR
ORGANIZER:Club d’Affaires Franco-Allemand  du Rhin Supérieur (CAFA RSO)
END:VEVENT
END:VCALENDAR
