BEGIN:VCALENDAR
VERSION:2.0
CALSCALE:GREGORIAN
METHOD:PUBLISH
BEGIN:VEVENT
SUMMARY:Te Mana Ora – 1ère Édition — Te Vahine Ora
DTSTART:20260614T070000Z
DTEND:20260614T153000Z
DTSTAMP:20260422T165557Z
CATEGORIES:
DESCRIPTION:\n 'Ia ora na à toutes ! \n \n\n\nJe suis profondément heu
 reuse et émue de vous annoncer la naissance du tout premier événement s
 ignature Ma Polynésie : TE MANA ORA\n \n\n\nPour cette 1ère édition\, 
 je vous propose un moment suspendu entouré de femmes lumineuses\, dans l
 ’amour et la bienveillance.\nUn espace où la transmission\, le partage 
 et la connexion prendront tout leur sens.\n \n\n\nLe temps d’une journ
 ée\, nous nous retrouverons pour Ralentir…Respirer…nous Reconnecter 
 à nous-mêmes.\n\n\nC’est dans un cercle intime\, ancré dans l’éner
 gie polynésienne\, que je vous invite à vibrer ensemble...\n \n\n\n le 
 dimanche 14 Juin 2026 \n de 9h00 à 17h30\n au Domaine du Hirtz Réside
 nce d'éco-tourisme | SPA\n Lieudit du Hirtzenstein 68700 Wattwiller\n \
 nPROGRAMME\n \n9h00 à 9h45 : MAEVA E MANAVA\nAccueil au cabanon autour d
 'une boisson et petites douceurs pour démarrer notre journée \n \n10h0
 0 - 12h00 : IMMERSION 1/2\nles participantes seront réparties en petits g
 roupes afin de vivre pleinement chaque expérience \n \n Au programme :
  \n- Rituel de beauté naturel\n- Atelier couronne de fleurs HEI TIARE or
 ganisé par l'association HEI ORA\n- Découverte du 'Aparima (danse polyn
 ésienne) organisé par l'association HEI ORA\nRotation des groupes tout a
 u long de la journée\n \n des Massages TAURUMI vous seront proposés par
  MIORA WELLNESS \nsur réservation UNIQUEMENT - 8 créneaux de disponible
 \n25€ les 30min (non inclus dans le tarif de la journée)\n \n 12h15 - 
 14h00 : Pause Déjeuner conviviale dans un cadre naturel et apaisant\n \n
 14h00 - 15h00 : IMMERSION 2/2\n \n 15h00 - 16h00 : TEMPS LIBRE\n \n 16h
 00-17h30 : YOGA & MÉDITATION\nUn moment de recentrage et de reconnexion 
 à soi. Céline RUSSO vous proposera une séance de Yoga & Méditation pou
 r clôturer cette journée.\n \n  Des boissons et petites douceurs seron
 t proposés tout au long de la journée. \n Un espace dédié à la bouti
 que MA POLYNÉSIE sera à disposition pour découvrir une sélection de pr
 oduits polynésiens. \n Vous pourrez également profiter du lieu pour vou
 s accorder un moment de détente et faire une petite balade en forêt si v
 ous le souhaitez.\n \nJ'ai vraiment hâte de vous accueillir pour vivre c
 ette expérience toutes ensemble portée par le Mana de Polynésie et l'é
 nergie de ces merveilleuses femmes.\n \nMāuruuru roa \n\n\nAvec tout mon
  Amour\,\nGiulia \n
GEO:47.846579;7.168085
LOCATION:Lieudit du Hirtzenstein 68700 Wattwiller - FR
ORGANIZER:Ma Polynésie - Te Mana Ora
END:VEVENT
END:VCALENDAR
