BEGIN:VCALENDAR
VERSION:2.0
CALSCALE:GREGORIAN
METHOD:PUBLISH
BEGIN:VEVENT
SUMMARY:Rotary Club Le Vésinet - Mardis Entreprises 140426
DTSTART:20260414T180000Z
DTEND:20260414T193000Z
DTSTAMP:20260420T042101Z
CATEGORIES:
DESCRIPTION:\nINVITATION MARDIS ENTREPRISES\n\nLeverage Buy Out ou « LBO 
 »\, outil de transmission pour les PME- ETI\n\nDans le cadre de ses conf
 érences/débats « Mardis Entreprises »\, le Rotary Club Le Vésinet a l
 e plaisir de vous convier à la conférence qui se tiendra le 14 avril pro
 chain à 20h au Pavillon des Ibis au Vésinet\, sur le thème du LBO et de
  la transmission d’entreprise.\n\n	Les « LBO »\, ou opérations de rac
 hat avec recours à l’endettement ne sont pas uniquement réservées aux
  grandes entreprises. Souvent méconnus\, ces mécanismes permettent de fa
 ciliter la transmission\, la reprise ou la montée au capital des équipes
 . Il permet également à l’actionnaire de se dé-risquer.\n\nNous revie
 ndrons sur les enjeux clefs propres à ces mécanismes afin de répondre a
 ux questions suivantes :\n\n·       Mon entreprise est-elle éligib
 le ?\n\n·       Est-ce le bon moment ? Comment s’y préparer ?\n\
 n·       Est-ce risqué ?\n\n·       Comment obtenir un fina
 ncement de type LBO ?\n\n·       A quelle valorisation puis-je m’
 attendre ?\n\n·       Qu’est ce qu’un fonds d’investissement 
 et quel sera sont rôle à mes côtés ?\n\nSynonyme de croissance\, le LB
 O a permis à des entreprises de devenir des champions nationaux ou intern
 ationaux. \n\nNous reviendrons sur des success story emblématiques mais 
 également sur des échecs.\n\nFrançois DUBOURG – Managing Director che
 z D&A Corporate Finance\, partagera sa vision et son expertise sur ces enj
 eux.\n\nCette rencontre\, qui s’inscrit dans le cycle des Mardis Entrepr
 ises\, est ouverte aux membres du Rotary et aux professionnels membres ou 
 non membres du Rotary.\n\nNous vous attendons nombreux lors de cet événe
 ment\, qui sera précédé d'un moment convivial autour d’un apéritif d
 ès 20h.\n\n(participation aux frais apéritifs 15 €)\n\n	 \n
LOCATION:Île des Ibis 78110 Le vésinet - FR
ORGANIZER:Rotary Club Le Vésinet
END:VEVENT
END:VCALENDAR
