BEGIN:VCALENDAR
VERSION:2.0
CALSCALE:GREGORIAN
METHOD:PUBLISH
BEGIN:VEVENT
SUMMARY:RETRAITE URBAINE ZEN 2
DTSTART:20260412T090000Z
DTSTAMP:20260425T211336Z
CATEGORIES:
DESCRIPTION:Rejoignez-nous pour une journée bien-être à Sète\,\nProfit
 ez de massages personnalisés corps et visages\, de bain de bols tibetains
 \, de séance de reiki\, d'un atelier aromathérapie\, du massage amma.\nD
 écouvrez l'hypnose relaxante et transformative accompagné d'un délicieu
 x brunch sain et gourmand\nPréparé avec amour par nos hôtes chez Piou P
 iou ce nouveau lieu culturel à Sète.
GEO:43.4076361;3.6966399
LOCATION:5 Quai Adolphe Merle 34200 Sète - FR
ORGANIZER:sugarproductions
END:VEVENT
END:VCALENDAR
