BEGIN:VCALENDAR
VERSION:2.0
CALSCALE:GREGORIAN
METHOD:PUBLISH
BEGIN:VEVENT
SUMMARY:Mediumnité en Salle avec Sandrine Dias et Didier Santiago - Avign
 on
DTSTART:20260425T120000Z
DTEND:20260425T150000Z
DTSTAMP:20260419T121609Z
CATEGORIES:
DESCRIPTION:\n	Une expérience unique en France\n\n	Venez vivre bien plus 
 qu’un simple événement…\n	Une rencontre rare\, un moment suspendu en
 tre deux mondes\, où l’émotion\, la connexion et l’invisible prennen
 t toute leur place.\n\n	À travers cette tournée exceptionnelle\, vous ê
 tes invités à plonger dans une expérience profondément humaine et spir
 ituelle\, guidée par deux personnalités complémentaires : Sandrine Dias
  et Didier Santiago.\n\n\n	Qui est Sandrine Dias ?\n\n	Médium depuis son 
 plus jeune âge\, Sandrine Dias est reconnue pour sa grande sensibilité e
 t sa capacité à établir un lien juste et sincère avec l’invisible.\n
 \n	Auteure du livre « Au-delà des signes » (Éditions Exergues)\, elle 
 est également la créatrice de deux oracles :\n\n\nL’Oracle Les Sens de
  l’Amour\n\nL’Oracle Les Sens de Sorcière\n\n\n	À travers ses expér
 iences et ses rencontres\, Sandrine a développé une médiumnité profond
 e\, authentique et respectueuse.\n	Elle transmet les messages avec douceur
 \, précision et une justesse qui touche profondément chaque personne pr
 ésente.\n\n\n	Qui est Didier Santiago ?\n\n	Créateur et animateur de la 
 chaîne Kurious Anima depuis plus de 10 ans\, Didier Santiago est un passe
 ur de savoirs dans les domaines de l’ésotérisme\, du bien-être et de 
 la spiritualité.\n\n	Au fil des années\, il a rencontré de nombreux exp
 erts et figures inspirantes\, enrichissant sa compréhension du monde invi
 sible.\n\n	Lors de cette tournée\, Didier joue un rôle essentiel :\n\n\n
 		Il anime\, guide et accompagne chaque moment\n\n		Il complète parfaitem
 ent Sandrine\, apportant du rythme\, de la profondeur et des éclairages p
 récieux\n\n\n	À eux deux\, ils créent une véritable alchimie\, rendant
  chaque instant vivant\, fluide et profondément marquant.\n\n\n	Une médi
 umnité en salle hors du commun — durée : 2h\n\n	Assister à une séanc
 e de médiumnité avec Sandrine Dias\, c’est vivre un moment rare et int
 ense.\n\n	Les défunts se manifestent avec précision\, et Sandrine mène 
 une véritable quête pour retrouver à qui s’adresse chaque message.\n	
 Aux côtés de Didier\, chaque contact est accompagné\, expliqué et mis 
 en lumière pour en révéler toute la profondeur.\n\n	✨ Un point import
 ant à savoir :\n	Vous ne recevrez peut-être pas un message direct…\nma
 is il est possible que celui que vous entendrez soit exactement celui dont
  vous aviez besoin.\n\n	Dans ce type de rencontre\, rien n’est laissé a
 u hasard.\n	Certains messages\, même adressés à d’autres\, peuvent r
 ésonner profondément en vous et apporter compréhension\, apaisement ou 
 réponses.\n\n	✨ Chaque séance est unique\n	✨ Chaque message a son im
 portance\n	✨ Et chaque personne présente vit une expérience différent
 e\n\n\n	✍️ Séance de dédicace — 30 minutes\n\n	À l’issue de l
 ’événement\, Sandrine vous proposera une séance de dédicace de son l
 ivre et de ses oracles.\n\n	Un moment privilégié pour échanger\, partag
 er et prolonger l’expérience en toute simplicité.\n\n\n	Informations p
 ratiques\n\n\nPlaces limitées : 150 personnes\n\nTarif : 40 €\n\nAcompt
 e : 20 € (non remboursable à l’inscription)\n\nPaiement sur place : E
 spèces ou Carte Bancaire\n\nChèques non acceptés\n\nLieu communiqué tr
 ès rapidement\n\n\n\n	Un moment inoubliable\n\n	Ce rendez-vous est bien p
 lus qu’une conférence…\n	C’est une expérience vibrante\, un moment
  hors du temps où chacun peut ressentir\, comprendre ou simplement se lai
 sser porter.\n\n	Entre spiritualité\, émotions et bienveillance\, cette 
 rencontre laisse une empreinte durable.\n\n	✨ Une parenthèse unique\n	
 ✨ Une connexion sincère\n	✨ Un moment que vous n’oublierez pas\n
LOCATION:2 rue Ferruce\, quartier de la balance 84000 Avignon - FR
ORGANIZER:sandrine Medium
END:VEVENT
END:VCALENDAR
