BEGIN:VCALENDAR
VERSION:2.0
CALSCALE:GREGORIAN
METHOD:PUBLISH
BEGIN:VEVENT
SUMMARY:THÉATRE: LE PORTEUR D'HISTOIRE
DTSTART:20260520T180000Z
DTSTAMP:20260423T162254Z
CATEGORIES:
DESCRIPTION:SOIRÉE THÉâTRE AU PROFIT DES ACTIONS SOLIDAIRES \nDE LA BIE
 NFAISANCE DE BARCELONE\n \nLE PORTEUR D’HISTOIRE D’ALEXIS MICHALIK.\n
  \nNOUVELLE MISE EN SCÈNE DE LA TROUPE THÉÂTRE & SOLIDARITÉ.\n \nVen
 ez assister à une enquête haletante qui vous tiendra en alerte du début
  à la fin.\n \nPièce doublement récompensée aux Molières 2014.\n \n
 Synopsis :\nUne disparition.Un trésor.Un saut dans le temps jusqu’en l
 ’an 258.\nSix acteurs incarnent des dizaines de personnages — de Alexa
 ndre Dumas au pape Clément VI\, en passant par Eugène Delacroix et bien 
 d’autres — dans une traversée extraordinaire des époques.\nUn voyage
  de ville en ville\, à travers pays et continents\, où les destins se cr
 oisent et les histoires s’entrelacent.\n \nAvec :Robert Fillias\, Clém
 ence Larroumet\, Lara Harfouche\, Cédric Delassise\, Adrien Clamens et Da
 vid Thibodeau.\n \n 
GEO:41.3949033;2.1514407
LOCATION:Carrer de Moià\, 8 08006 Barcelona - ES
ORGANIZER:ASOCIACION LA BIENFAISANCE FRANÇAISE DE BARCELONE
END:VEVENT
END:VCALENDAR
