BEGIN:VCALENDAR
VERSION:2.0
CALSCALE:GREGORIAN
METHOD:PUBLISH
BEGIN:VEVENT
SUMMARY:Atelier sur le réseautage avec Dave Cameron 
DTSTART:20260407T154500Z
DTEND:20260407T163000Z
DTSTAMP:20260424T015044Z
CATEGORIES:
DESCRIPTION:\n	Atelier réseautage avec un expert dans le domaine : Dave C
 ameron !\n\n	Une chance unique d'apprendre à se développer un réseau de
  qualité gratuitement. \n\n	Ouvert à tous les étudiants de l'école de
  gestion !\n
LOCATION:   - CA
ORGANIZER:Fonds d'investissement étudiant de l'Université de Sherbrooke 
 (FIEUS)
END:VEVENT
END:VCALENDAR
