BEGIN:VCALENDAR
VERSION:2.0
CALSCALE:GREGORIAN
METHOD:PUBLISH
BEGIN:VEVENT
SUMMARY:HLD
DTSTART:20261003T180000Z
DTSTAMP:20260424T181026Z
CATEGORIES:
DESCRIPTION:\n	HLD a commencé le rap à 13 ans\, mais c’est à la sorti
 e du confinement qu’il s’est lancé dans le grand bain en diffusant sa
  musique sur les réseaux.\n\n	Si le COVID a immobilisé le monde durant d
 e longs mois\, le « virus » HLD\, lui\, viendra le secouer\, notamment 
 à partir de sa série de freestyles « SEKLENLAND » qui cumulent plusieu
 rs millions de vues sur Youtube. Le média de référence Booska-P sera lu
 i aussi « contaminé » et le fera figurer dans ses 11 à suivre.\n\n	Deu
 x albums plus tard\, l’artiste de Clamart (92) s’est imposé comme une
  figure montante de la scène « street » qui a su fédérer un public fi
 dèle\, comme en témoignent ses plus de 700 000 auditeurs mensuels sur Sp
 otify.\n\n	Son nouvel album « Drogue 2 » paraîtra le 5 décembre 2025.\
 n
LOCATION:3 RUE DE GUEBWILLER 67100 STRASBOURG - FR
ORGANIZER:SEEYOUSOON
END:VEVENT
END:VCALENDAR
