BEGIN:VCALENDAR
VERSION:2.0
CALSCALE:GREGORIAN
METHOD:PUBLISH
BEGIN:VEVENT
SUMMARY:Forum des métiers 2026
DTSTART:20260605T070000Z
DTEND:20260605T113000Z
DTSTAMP:20260425T183748Z
CATEGORIES:
DESCRIPTION:\n	Nous sommes de retour !\n\n	Nous vous invitons à la 3ème 
 édition du Forum des métiers le vendredi 5 juin de 09h00 à 13h30 au L
 ycée International de l’Est Parisien à Noisy-le-Grand. Notre organisme
  de formation vous présentera toutes ses filières.\n\n	Que vous soyez pr
 ofessionnel\, stagiaire en formation\, demandeur d'emploi ou bien salarié
  en reconversion... Venez nous rencontrer et découvrir tout notre savoir-
 faire.\n\n	Stands\, ateliers découvertes\, meeting avec nos entreprises p
 artenaires\, vous attendent...\n\n	Retrouvez le programme du forum des mé
 tiers sur notre site internet : event.greta93.fr\n\nInscription gratuite 
 !\n
LOCATION:1 Prom. Marco Polo 93160 Noisy-le-Grand - FR
ORGANIZER:Greta-Seine-Saint-Denis
END:VEVENT
END:VCALENDAR
