BEGIN:VCALENDAR
VERSION:2.0
CALSCALE:GREGORIAN
METHOD:PUBLISH
BEGIN:VEVENT
SUMMARY:L’accompagnement du TDAH aujourd’hui :  Où en sommes-nous ? 
DTSTART:20260526T163000Z
DTEND:20260526T183000Z
DTSTAMP:20260421T232314Z
CATEGORIES:
DESCRIPTION:\nRares sont les personnes n’ayant jamais rencontré\, dans 
 leur cercle personnel ou dans le cadre de leur exercice professionnel\, un
  enfant ou un adulte présentant un TDAH. \n\n- Quelles réalités se cac
 hent derrière ce nom ?\n\n- Comment accompagner les enfants et familles c
 oncernées par ce trouble ? \n\n	 \n\nFort de 15 années d’expérience
  en matière de pédagogie et d’accompagnement des enfants “dys”\, e
 t se reposant sur les dernières préconisations scientifiques et internat
 ionales\, le CERENE s’attache à décrire les bonnes pratiques actuelles
  en matière d’accompagnement du Trouble Déficit de l’Attention/Hyper
 activité. \n\n	 \n\nVous êtes professionnels médicaux et paramédicau
 x\, enseignants ou parents\, rejoignez Hervé Glasel neuropsychologue et f
 ondateur du CERENE pour échanger sur ce thème. \n\n	 \n\nLa conférenc
 e se déroulera en le Mardi 26 mai 2026 de 18h30 à 20h30 à Lafayette Wor
 kspace au 22 Rue Lafayette\, 31000 Toulouse\n\n	 \n\n*Inscription obligat
 oire.\n\n	 \n
LOCATION:22 Rue Lafayette 31000 Toulouse - FR
ORGANIZER:CERENE
END:VEVENT
END:VCALENDAR
