BEGIN:VCALENDAR
VERSION:2.0
CALSCALE:GREGORIAN
METHOD:PUBLISH
BEGIN:VEVENT
SUMMARY:STAGE DANSE POMPOM - MARSEILLE - MAI2026 (Loca'Dance)
DTSTART:20260524T123000Z
DTEND:20260524T143000Z
DTSTAMP:20260421T125318Z
CATEGORIES:
DESCRIPTION:\nComme son nom l’indique\, les stages "EMANCIPATION" sont 
 des ateliers exclusivement dédiés aux femmes qui veulent se reconnecter
  à leur corps\, developper leur féminité\, et prendre confiance en elle
 s à travers la danse pompom.\n\nCes ateliers durent 2H et ne requiert au
 cun niveau de danse particulier\, je fais toujours en sorte de m’adapte
 r à aux besoins / sensibilités de chacune. Les accessoires (pompons) qu
 e l’on utilise pour la chorégraphie sont prêtés sur place à celles q
 ui viennent pour la toute première fois. Il te suffit de venir avec une
  tenue dans laquelle tu te sens à l’aise pour bouger\, ainsi qu’une p
 aire de basket.\n\nLa prochaine édition se déroulera au Studio Loca'Danc
 e\n(971 Route des quatre Saisons Galerie marchande de Fontvieille\, 13190 
 Allauch).\n\n	 \n\nTu veux connaitre le titre de la chanson sur laquelle 
 on danser ? Inscris toi à la Newseltter en cliquant ici : http://eepurl.c
 om/gegJRz et tu pourras également être informée par mail des prochaines
  dates de stage ! \n\n	 \n\nNotre objectif c'est l'émancipation\, la dan
 se pompom est notre outil.\n\n	 \n\nUNE EXPERIENCE TESTÉE ET APPROUVÉE
  \n\nL'Optimisme :\n"LA DANSE POMPOM AU SERVICE DU BIEN-ÊTRE !"\n\nPaule
 tte Magazine :\n"ZOOM SUR LE POMPOM"\n\nMarie Claire : \n"LA DANSE POMPOM
 \, UNE DISCIPLINE POUR FAIRE LE PLEIN D’ÉNERGIES POSITIVES"\n\n	Nadinez
  vous : \n"J’AI FRÉTILLÉ LE POMPOM AVEC ELISE POMPOM GIRL !"\n\n	Chee
 k Magazine : \n"ON A TESTÉ POUR VOUS LE POM-POM INCLUSIF ET BODY POSITIV
 E"\n\nEt bien plus encore\, pour voir toutes les références : cliquez 
 ici !\n\n	 \n\nFAQ :\n\n- "Est-ce que je peux participer si je n'ai jama
 is fait de danse ou de danse pompom ?" : Oui ! Les chorégraphies des ate
 liers Émancipation sont créées pour se faire plaisir\, se reconnecter 
 à sa féminité et à son corps dans la joie\, grâce à la danse pompom.
  L'objectif n'est pas de développer une technique de danse professionnell
 e mais bien de faire le plein d'énergie positive et se sentir bien en ét
 ant soi même à travers le mouvement. Tant que tu aimes danser\, aucun ni
 veau de danse n'est requis.\n\n- "Je n'ai pas de pompons\, je peux partic
 iper quand même ?" : Oui bien sûr ! Les pompons font partie intégrante
  de nos chorégraphies\, et ils sont prêtés à celles qui participent po
 ur la première fois. Tu pourras ensuite acheter ta propre paire !\n\n- "J
 e peux danser mais j'ai une sensibilité quelque part (genou\, cheville\, 
 etc)\, comment faire ?" J'adapte la chorégraphie aux besoins de chacune\,
  pense simplement à me le signaler et je te proposerai un mouvement diff
 érent pour que tu te sentes à l'aise.\n\n	- "Quelle tenue porter ?" Que
 lque chose dans lequel tu te sens suffisamment confortable pour bouger (ju
 pe\, legging ou short peu importe)\, avec une paire de basket (propre)\, a
 insi qu'une bouteille d'eau fraiche pour t'hydrater. Si tu le souhaites\, 
 tu peux également participer au dress code (facultatif) en t'inspirant de
  l'artiste / du thème de la session pour t’immerger pleinement dans l'e
 xpérience !\n\n- "Est-ce qu'on peut se garer facilement ?" Oui il y a un 
 grand parking gratuit disponible juste devant le studio ! (si certaines vi
 ennent en transports depuis marseille et ont besoin d'accéder au studio\,
  envoyez moi un message\, covoiturage possible)\n\n- "Comment être préve
 nue des prochaines dates ?" Par mail\, en s'inscrivant à la newsletter d
 édiée aux stages Émancipation disponible ici : http://eepurl.com/gegJRz
 \n\n- "Est-ce que les enfants sont acceptés ?" Non\, les stages pompom 
 Émancipation sont exclusivement réservés aux femmes adultes.\n
LOCATION:971 Route des quatre Saisons Galerie marchande de Fontvieille 131
 90 Allauch - FR
ORGANIZER:ELISE BOUSKILA
END:VEVENT
END:VCALENDAR
