BEGIN:VCALENDAR
VERSION:2.0
CALSCALE:GREGORIAN
METHOD:PUBLISH
BEGIN:VEVENT
SUMMARY:RP FESTIVAL
DTSTART:20260524T180000Z
DTSTAMP:20260421T163804Z
CATEGORIES:
DESCRIPTION: \nBEAT NATION présente le R.P Festival \n \nDu live high 
 level pour clôturer ce week-end de festivités :\n Après le Samedi avec
  CAPLETON & friends \n    Le Dimanche \nLE ZOUK A UN AUTRE NIVEAU\n \
 n RÉAL LIMIT  \n KWAXI COLOR\n \nUne surprise ...  \n \n \n    
        \n \npour cette méga garden CONCERT\nLe 24 Mai  Ouverture de
 s portes à 14 heures \n \nEnjoyyyyyyy !!!!\nDu jamais vu …jamais fait
 \n \nPLACES TRÈS TRÈS LIMITÉES
GEO:14.5100196;-60.89583089999999
LOCATION: 97211 Rivière-Pilote - MQ
ORGANIZER:LTT production
END:VEVENT
END:VCALENDAR
