BEGIN:VCALENDAR
VERSION:2.0
CALSCALE:GREGORIAN
METHOD:PUBLISH
BEGIN:VEVENT
SUMMARY:A table! La transition dans nos assiettes
DTSTART:20260528T080000Z
DTEND:20260528T100000Z
DTSTAMP:20260423T105848Z
CATEGORIES:
DESCRIPTION:En mettant en lumière les relations entre alimentation\, clim
 at et occupation de l’espace\, cet atelier questionne sur ce que nous ma
 ngerons en 2050 ! \nVous serez invité à composer un mix équilibré « d
 ’assiettes » pour alimenter le territoire en 2050\, tout en tenant comp
 te des enjeux environnementaux et de santé publique. \nCette approche sim
 plifiée intègre la surface agricole mobilisée\, les apports nutritionne
 ls recommandés et l’impact des gaz à effet de serre.\nCet atelier perm
 et de rassembler les acteurs autour de la table pour comprendre les liens 
 entre notre alimentation\, l’environnement et le climat et imaginer le s
 ystème alimentaire de demain pour en réduire les impacts. \n 
GEO:48.89269780000001;2.1991663
LOCATION:20 Rue de Stalingrad 92000 Nanterre - FR
ORGANIZER:Agora, la fabrique des futurs
END:VEVENT
END:VCALENDAR
