BEGIN:VCALENDAR
VERSION:2.0
CALSCALE:GREGORIAN
METHOD:PUBLISH
BEGIN:VEVENT
SUMMARY:CLEMENT LE MAGICIEN
DTSTART:20260906T090000Z
DTEND:20260906T100000Z
DTSTAMP:20260420T145802Z
CATEGORIES:
DESCRIPTION:\n	Clément le Magicien propose un spectacle de magie jeune pu
 blic moderne\, interactif et résolument festif. Véritable one-man-show m
 êlant illusion\, humour et participation active du public\, ce spectacle 
 de magie captive aussi bien les enfants que leurs accompagnants en créant
  un moment de partage unique.\n\n	Sur scène\, Clément incarne un magicie
 n convivial et un tantinet décalé : ses tours inattendus\, ses gaffes as
 sumées et les effets visuels surprenants déclenchent rires et émerveill
 ement chez les jeunes spectateurs. Les baguettes magiques qui voltigent\, 
 la radio qui se transforme en juke-box\, les objets qui disparaissent et r
 éapparaissent sont autant d’éléments qui donnent au spectacle une én
 ergie joyeuse et contagieuse.\n\n	Ouverture des portes : 30 mn avant le d
 ébut du spectacle\n\n	Assis / Placement libre\n
LOCATION:PARC DE BEAUPUY 85000 MOUILLERON LE CAPTIF - FR
ORGANIZER:SERVICE CULTUREL DE MOUILLERON LE CAPTIF
END:VEVENT
END:VCALENDAR
