BEGIN:VCALENDAR
VERSION:2.0
CALSCALE:GREGORIAN
METHOD:PUBLISH
BEGIN:VEVENT
SUMMARY:Jeu à rôles cachés : Blood and the clock tower - 19h30
DTSTART:20260523T173000Z
DTEND:20260523T183000Z
DTSTAMP:20260423T184412Z
CATEGORIES:
DESCRIPTION:\n	 \n\n\n		 Description\n\n\n\nTandis que gronde un orage i
 nfernal\, et que tonnent les douze coups de minuit\, un cri glaçant reten
 tit. Les habitants du village découvrent\, horrifiés\, le corps sans vie
  de leur conteur\, son corps empalé sur la flèche de la tour de l’horl
 oge. C’est l’œuvre du démon\, tuant la nuit et se dissimulant sous f
 orme humaine le jour…\n\n				Dans le jeu Blood on the Clocktower - Édi
 tion Villageois (Standard Retail)\, les joueurs prennent part à une expé
 rience ludique à grande échelle\, mêlant bluff\, déduction\, narration
  et interaction forte entre les participants. Installé dans un village fr
 appé par une malédiction\, un joueur endosse le rôle du Conteur et orch
 estre la partie\, tandis que les autres incarnent secrètement des village
 ois\, personnages aux pouvoirs uniques\, répartis entre le camp du Bien e
 t celui du Mal. Chaque nuit\, des capacités s’activent en secret\, et c
 haque jour\, les discussions s’enchaînent pour tenter d’identifier le
  démon dissimulé parmi les villageois.\n\n				Contrairement aux jeux de 
 rôles cachés classiques\, Blood on the Clocktower - Édition Villageois
  (Standard Retail) innove radicalement : même éliminé\, un joueur cont
 inue d’influencer la partie. Avec plus de 99 rôles différents dans le 
 jeu de base\, chaque partie offre des configurations inédites\, des infor
 mations parfois contradictoires et des dilemmes moraux constants.\n\n				L
 ’expérience de jeu repose autant sur la logique que sur la psychologie.
  Observer les comportements\, analyser les silences\, provoquer des débat
 s ou manipuler l’opinion devient aussi important que l’utilisation des
  pouvoirs. Le Conteur adapte le rythme et la complexité de la partie\, re
 ndant Blood on the Clocktower - Édition Villageois (Standard Retail) ac
 cessible aux nouveaux joueurs tout en offrant une profondeur stratégique 
 confortable aux groupes expérimentés.\n\n				Servie par un matériel Pre
 mium impressionnant dans son Édition "Villageois" (grimoire géant\, je
 tons épais\, fiches de personnages et plateau central...)\, Blood on the
  Clocktower - Édition Villageois (Standard Retail) s’impose comme une 
 référence incontournable du jeu de société à rôles cachés\, idéale
  pour des soirées riches en immersion et en récits épiques.\n\n\n\n\n	
  \n
LOCATION:50 rue de la Grande Remise 78440 Porcheville - FR
ORGANIZER:ESPACE BORIS VIAN -
END:VEVENT
END:VCALENDAR
