BEGIN:VCALENDAR
VERSION:2.0
CALSCALE:GREGORIAN
METHOD:PUBLISH
BEGIN:VEVENT
SUMMARY:Jeu Immersif : Hantise - 22h30
DTSTART:20260523T203000Z
DTEND:20260523T213000Z
DTSTAMP:20260423T184231Z
CATEGORIES:
DESCRIPTION:\n	Description\n\n\n\nIl y a quelques jours\, un appel désesp
 éré vous a attirés en ces lieux où un Esprit maléfique tourmente les 
 vivants. En tant que médiums\, vous êtes leur dernier espoir.\n\n			Dans
  le jeu coopératif Hantise\, une personne tiendra le rôle du Maître de
  Cérémonie et les autres seront des médiums. Plongés dans l’Obscurit
 é\, à la seule lumière de votre téléphone\, vous disposez de 7 tours 
 pour accomplir les rituels nécessaires\, impliquant une interaction entre
  les joueurs et joueuses.\n\n			À chaque tour\, certains médiums seront 
 possédés par l’Esprit et devront se plier à sa volonté \; d’autres
  seront sauveurs et devront libérer les possédés ainsi que remplir des 
 missions\, s’ils le peuvent.\n			Libérer des possédés est l’action 
 la plus importante à faire\, mais également la plus risquée ! En effet\
 , les sauveurs pourront être bloqués avec les possédés en cas d’éch
 ec !\n\n			Votre mission sera de libérer ce lieu hanté avant d’y être
  piégés à votre tour.\n\n			Lors de la nocturne de notre festival du je
 u\, deux sessions seront proposées\, pour un total de 12 places.\n\n\n\n	
  \n
LOCATION:50 rue de la Grande Remise 78440 Porcheville - FR
ORGANIZER:ESPACE BORIS VIAN -
END:VEVENT
END:VCALENDAR
