BEGIN:VCALENDAR
VERSION:2.0
CALSCALE:GREGORIAN
METHOD:PUBLISH
BEGIN:VEVENT
SUMMARY:Drag & Queens
DTSTART:20260522T183000Z
DTSTAMP:20260420T063828Z
CATEGORIES:
DESCRIPTION:\nDrag & Queens\, le show flamboyant mêlant drag queens\, eff
 euillage glamour et transformisme !\n\nVenez assister à un spectacle orch
 estré par plusieurs Drag Queens. Un spectacle qu'on vous promet haut en c
 ouleurs\, dans la joie et la bonne humeur !\n\nPendant 1h30\, laissez-vous
  emporter par des performances musicales\, de l’humour\, des paillettes 
 et une énergie débordante.\n\n	 \n\nLa soirée se prolonge avec un club
  drag pour continuer la fête jusque tard dans la nuit !\n\n	 \n\n\nPlace
  assise Cabaret Drag & Queen +Soirée DJ Club Drag : 25€\n\nPlace debout
  Cabaret Drag & Queen +Soirée DJ Club Drag : 20€\n\nSoirée DJ Club Dra
 g seul : 10€ (à partir de 22h30)\n\n\n	 \n
LOCATION:10 rue Louis Ulbach 10000 Troyes - FR
ORGANIZER:Le Troyes Fois Plus
END:VEVENT
END:VCALENDAR
