BEGIN:VCALENDAR
VERSION:2.0
CALSCALE:GREGORIAN
METHOD:PUBLISH
BEGIN:VEVENT
SUMMARY:Production : atelier pastel avec Christopher Blake Bargell
DTSTART:20260425T080000Z
DTEND:20260425T100000Z
DTSTAMP:20260425T033112Z
CATEGORIES:
DESCRIPTION:Entrez dans l’univers des pastels de l’artiste Christopher
  Blake Bargell et libérez votre créativité.\nC’est l’occasion dans 
 un environnement décomplexé de se reconnecter avec son instinct créatif
 \, sans limite. Des conseils\, du matériel et du thé sont mis à votre d
 isposition pour ce moment de détente.
GEO:48.8803778;2.3243672
LOCATION:9 Rue de Saint-Pétersbourg 75008 Paris - FR
ORGANIZER:FL Booking
END:VEVENT
END:VCALENDAR
