BEGIN:VCALENDAR
VERSION:2.0
CALSCALE:GREGORIAN
METHOD:PUBLISH
BEGIN:VEVENT
SUMMARY:Tribute Céline Dion
DTSTART:20270220T200000Z
DTEND:20270220T223000Z
DTSTAMP:20260421T143912Z
CATEGORIES:
DESCRIPTION:\nEntrez dans l’univers puissant et émouvant de Céline Dio
 n à travers un spectacle hommage unique : Tribute Céline. Plus qu’un 
 simple concert\, c’est une plongée dans la carrière d’une artiste l
 égendaire qui a marqué à jamais l’histoire de la chanson francophone 
 et internationale.\n\nClassé dans le Top 10 des meilleurs Tributes franco
 phones\, Tribute Céline s’impose comme une référence incontournable
 . Porté par des chanteuses à la voix exceptionnelle et des musiciens pas
 sionnés\, ce show restitue l’intensité et la magie des plus grands suc
 cès de Céline. Chaque titre\, de Pour que tu m’aimes encore à My H
 eart Will Go On\, est revisité avec authenticité et émotion pour recré
 er cette communion rare que seule la musique peut offrir.\n\nPendant près
  de deux heures\, le public voyage à travers les grandes étapes de son p
 arcours : ses débuts marqués par une énergie juvénile\, l’ère des c
 ollaborations avec Jean-Jacques Goldman\, le triomphe planétaire de Tita
 nic\, jusqu’aux chansons plus récentes qui confirment son statut d’ic
 ône mondiale. Un enchaînement de titres mythiques\, de balades boulevers
 antes et de moments intenses qui célèbrent une carrière hors du commun.
 \n
LOCATION:Zone commerciale nationale 7 26800 Portes les valence - FR
ORGANIZER:Dancing le Broadway
END:VEVENT
END:VCALENDAR
