BEGIN:VCALENDAR
VERSION:2.0
CALSCALE:GREGORIAN
METHOD:PUBLISH
BEGIN:VEVENT
SUMMARY:Show Hallyday
DTSTART:20261121T200000Z
DTEND:20261121T223000Z
DTSTAMP:20260421T143853Z
CATEGORIES:
DESCRIPTION:\n	Tournée des légendes Saison 2\n\n	Vous avez réclamé son
  retour.\n\n	Gilles Glab et le Tribute Hallyday se produira une nouvelle f
 ois sur la scène du Broadway\, mais cette fois il sera au complet avec pa
 s moins de 8 Musiciens pour ce show explosif.\n\n	 \n\n	Réservez vite vo
 s places pour cette soirée dédiée au taulier.\n\n	 \n\n	Possibilité d
 e réduction pour l'achat des trois concerts Hommage à Balavoine\, Hommag
 e à Johnny et Hommage à Céline Dion.\n
LOCATION:Zone commerciale nationale 7 26800 Portes les valence - FR
ORGANIZER:Dancing le Broadway
END:VEVENT
END:VCALENDAR
