BEGIN:VCALENDAR
VERSION:2.0
CALSCALE:GREGORIAN
METHOD:PUBLISH
BEGIN:VEVENT
SUMMARY:hrtz - concert
DTSTART:20260417T220000Z
DTSTAMP:20260425T175703Z
CATEGORIES:
DESCRIPTION:
GEO:48.2423069;-79.020181
LOCATION:11 Avenue Principale J9X 4N8 Rouyn-Noranda - CA
ORGANIZER:hrtz - concert
END:VEVENT
END:VCALENDAR
