BEGIN:VCALENDAR
VERSION:2.0
CALSCALE:GREGORIAN
METHOD:PUBLISH
BEGIN:VEVENT
SUMMARY:Commémoration du 8 mai 1945 - Fort de la Motte-Giron
DTSTART:20260508T080000Z
DTEND:20260508T150000Z
DTSTAMP:20260422T141332Z
CATEGORIES:
DESCRIPTION:\nPour faciliter votre accès au site\, il est fortement recom
 mandé d’emprunterles navettes gratuites*\, le stationnement étant rest
 reint aux abords du Fort.Plus de renseignements > https://www.dijon.fr/act
 ualites/8-mai-a-dijon/ *Départs toutes les 15 min\, à partir de 9h15\, 
 de la Cité internationale de la gastronomie et du vin.
GEO:47.315;4.9855556
LOCATION:66 Chemin du Fort de la Motte Giron 21000 Dijon - FR
ORGANIZER:VILLE DE DIJON
END:VEVENT
END:VCALENDAR
