BEGIN:VCALENDAR
VERSION:2.0
CALSCALE:GREGORIAN
METHOD:PUBLISH
BEGIN:VEVENT
SUMMARY:Olympe La rebelle
DTSTART:20260520T173000Z
DTEND:20260520T193000Z
DTSTAMP:20260425T231344Z
CATEGORIES:
DESCRIPTION:\nAvec les élèves des classes de la filière voix\, chant l
 yrique et art dramatique\n\n	 \n\nCheffe de choeur : Elsa Tirel\, profes
 seur de chant : Elsa Levy\, Professeur d'art dramatique : Hugues Badet\, P
 ianiste Gabriel Gomez\n\n	 \n\nL’histoire d’une femme oubliée des li
 vres d’école\,Olympe de Gouges. \n\nEn 1791\, dans sa « Déclaration d
 es droits de la femme et de la citoyenne »\, elle appelle ses « très ch
 ères soeurs » à se révolter contre l’oppression dont elles étaient 
 victimes. \n\nElle oeuvre aussi beaucoup contre l’esclavage. \n\nIci\, u
 n professeur d’histoire entraîne une classe de collège à lui rendre h
 ommage.\n\n	 \n\nAttention : 3 places MAXIMUM par famille\n\n	 \n\nPour 
 le bon déroulement du spectacle\, nous vous remercions de bien vouloir vo
 us présenter au moins 15 minutes avant le début de la représentation. E
 n cas de retard\, l’accès à la salle ne pourra pas être garanti. \n
LOCATION:rue de courcelles 75017 Paris - FR
ORGANIZER:Conservatoire Municipal Claude Debussy
END:VEVENT
END:VCALENDAR
