BEGIN:VCALENDAR
VERSION:2.0
CALSCALE:GREGORIAN
METHOD:PUBLISH
BEGIN:VEVENT
SUMMARY:Internet sans risques x Conseillers Numériques
DTSTART:20260430T080000Z
DTEND:20260430T100000Z
DTSTAMP:20260422T202338Z
CATEGORIES:
DESCRIPTION:L’objectif de cet atelier est d’adopter les bonnes pratiqu
 es pour naviguer en sécurité sur Internet.Pour cela\, nous analyserons d
 ifférentes risques et menaces que l’on peut rencontrer lors de notre na
 vigation quotidienne\, et nous verrons comment on peut y faire face.Il s
 ’agit avant tout d’apprendre à être vigilant pour ne pas tomber dans
  les pièges tendus par les cybercriminels. On pourra ainsi profiter serei
 nement des avantages du numérique\, sans en subir les désagréments.\n__
 ______________\nLe Shadok – 25 Presqu'île André Malraux - 67100 Strasb
 ourg\nJeudi 30 avril de 10h00 à 12h00\nPublic Adulte | 8 participant·es\
 nGratuit sur inscription.\nAtelier animé par les Conseillers Numériques 
 de l'Eurométropole de Strasbourg\n________________\nVous pouvez vous insc
 rire par téléphone au 03 68 98 70 35\, par mail à contact@shadok-strasb
 ourg.eu ou sur notre site internet shadok-strasbourg.eu/agenda.\n \nen ca
 s d'annulation de votre inscription\, merci de nous contacter par mail : c
 ontact@shadok-strasbourg.eu
GEO:48.57396959999999;7.764062999999999
LOCATION:25 Presqu'île André-Malraux 67100 Strasbourg - FR
ORGANIZER:Le Shadok
END:VEVENT
END:VCALENDAR
