BEGIN:VCALENDAR
VERSION:2.0
CALSCALE:GREGORIAN
METHOD:PUBLISH
BEGIN:VEVENT
SUMMARY:Human Design : La clé pour vivre et entreprendre de manière alig
 née
DTSTART:20260421T120000Z
DTSTAMP:20260419T144431Z
CATEGORIES:
DESCRIPTION:Et si tu arrêtais enfin d'essayer de rentrer dans un moule et
  de lutter contre ta propre nature ?\nLors de cet atelier\, Marie-Alix te 
 propose une immersion dans le Human Design\, un outil puissant de connaiss
 ance de soi pour mieux comprendre ton fonctionnement\, ton énergie et ta 
 manière naturelle de prendre des décisions.\nÀ travers cette initiation
 \, tu découvriras les bases de ton schéma unique : ton type énergétiqu
 e\, ton profil ainsi que certaines de tes spécificités.\nCet atelier te 
 permettra de :\nMieux te comprendre\nIdentifier ce qui t'épuise et ce qui
  te nourrit \nComprendre ta mécanique émotionnelle\nMettre des mots sur
  ton fonctionnement naturel\nCommencer à te libérer des conditionnements
 \nT'autoriser à être pleinement toi-même\n \nUn moment de transmission
  et d'échange pour repartiravec des prises de conscience concrètes\, app
 licables dansd ta vie personnelle comme dans ton business.\nInclus :\nUne 
 boisson \nUne gourmandise\nL'initiation au Human Design avec Marie-Alix\n
 Des échanges et de la good vibes !\nAlors tu viens ?\nTarif total de l'é
 vénement : 35€ - Réserve ta place dès maintenant en réglant 15€ su
 r le site et complète le paiement avec 20€ supplémentaires le jour de 
 l’événement sur place en espèces.\nTu es membre du club Girl Boss ? L
 'événement pour toi est à 25€ au lieu de 35€ ! Réserve ta place d
 ès maintenant en réglant 15€ sur le site et complète le paiement avec
  10€ supplémentaires le jour de l’événement sur place en espèces.
LOCATION:  
ORGANIZER:Particulier
END:VEVENT
END:VCALENDAR
