BEGIN:VCALENDAR
VERSION:2.0
CALSCALE:GREGORIAN
METHOD:PUBLISH
BEGIN:VEVENT
SUMMARY:Réseautage et dévoilement de la première enquête nationale
DTSTART:20260630T070000Z
DTEND:20260630T143000Z
DTSTAMP:20260420T133316Z
CATEGORIES:
DESCRIPTION:\nLa matinée sera dédiée à un temps de « Speedmeeting Pro
  » favorisant les rencontres\, les échanges et le partage de pratiques 
 entre professionnel·les du réseau SAS.\n	A NOTER : cette partie de la j
 ournée est réservée aux professionnel·les travaillant dans le secteu
 r de la santé affective et sexuelle (SAS) (institutions/structures réper
 toriées dans la brochure du réseau CESAS). \n\nL'après-mid sera consac
 ré à la présentation de la première enquête nationale sur la santé 
 affective et sexuelle. La mise en perspective des résultats offrira un é
 clairage inédit sur les réalités de la population et les enjeux dont la
  promotion de la santé affective et sexuelle doit tenir compte. \n\n	A N
 OTER : cette partie de la journée est ouverte à toute personne intéres
 sée par la thématique. \n\nPROGRAMME DETAILLE :\n\nMatinée « Speedme
 eting Pro » (CESAS)\n\n	9h00 :   Accueil des participant·es au Speedm
 eeting\n\n	9h30 :   Début du Speedmeeting \n\n	12h30 :  Conclusion et
  clôture du Speedmeeting \n\n12h45-13h45 : Pause réseautage \n\nAprès
 -midi : Première enquête nationale sur la santé affective et sexuelle 
 (Direction de la santé)\n\n	14h00 : Mot de bienvenue de Madame Martine De
 prez\, ministre de la Santé et de la Sécurité sociale\, et de Dr Jean-C
 laude Schmit\, directeur de la Direction de la santé\n\n	14h15 - 15h15 : 
 Présentation des résultats de la première enquête nationale Santé aff
 ective et sexuelle par Dr Emmanuel Amsallem\, Chef de pôle Médecine Pré
 ventive et Santé de la Population \n\n	15h15 - 16h00 : Echanges avec la 
 salle\n\n	16h00 : Conclusions et mot de clôture\n\n	16h15 : Verre de l'am
 itié\n\n	 \n\n	 \n\n	 \n
LOCATION:5\, Avenue Marie-Thérèse L-2132 Luxembourg - LU
ORGANIZER:Cesas
END:VEVENT
END:VCALENDAR
