BEGIN:VCALENDAR
VERSION:2.0
CALSCALE:GREGORIAN
METHOD:PUBLISH
BEGIN:VEVENT
SUMMARY:Festival Almonaster Cimbrea 2026
DTSTART:20260605T160000Z
DTEND:20260607T180000Z
DTSTAMP:20260424T160750Z
CATEGORIES:
DESCRIPTION:Encuentro Rural de Música / Bailes / Canto / Naturaleza / Sal
 ud / Juegos\n5\, 6 y 7 de junio 2026\nAlmonaster (Provincia de Huelva\, E
 spaña)\nCelebramos nuestro X encuentro rural!En Almonaster la Real\, Sier
 ra de Huelva\, Andalucíaestamos emocionadísimxs y agradecidxs por vuestr
 o apoyo.\nVen a vivir la música en directo con grupos maravillosos\; los 
 talleres de bailes tradicionales de la península\, de Francia y más all
 á\, ven a cantar en grupo\, a cuidar todo tu ser\, a tocar en una jam\, a
  conocer la artesanía local o a jugar en familia\; danzar en la mezuita\;
  y todo en un ambiente acogedor\nPrograma de conciertos: (sujeto a alterac
 iones)\n6 conciertos/baile:\nPapá GalloVegetal Jam Baladans Coquelicot 
 de FogoNuba\nVenta online de las primeras 100 entradas generales a precio 
 reducido hasta el 17 de mayo (despúes en la taquila\, hasta que se comple
 te el aforo).\nMenores de edad gratis (acompañados por un adulto con entr
 ada)\nLos precios parciales se anunciarán en mayo.\nAlojamiento disponibl
 e en el polideportivo (gratis) y en un albergue en habitaciones compartida
 s (literas) - €40 per persona por el fin de semana (plazas limitadas) -
   se hacen reservas en el albergue por el correo electrónico por debajo:
 \nPara más información\, reservas y entradas: \nhttps://www.facebook.co
 m/share/1AkSN6BVjC/\nCorreo electrónico: cimbrea2023@gmail.com
LOCATION:Almonaster La Real 21350 
ORGANIZER:Asociación Cultural Cimbrea
END:VEVENT
END:VCALENDAR
