BEGIN:VCALENDAR
VERSION:2.0
CALSCALE:GREGORIAN
METHOD:PUBLISH
BEGIN:VEVENT
SUMMARY:Ta vidéo pro en une soirée !
DTSTART:20260416T170000Z
DTSTAMP:20260419T144431Z
CATEGORIES:
DESCRIPTION:Tu sais que tu dois être visible\, tu sais que la vidéo est 
 aujourd'hui incontournable\, mais entre le manque de temps\, la peur de te
  montrer ou simplement le fait de ne pas savoir quoi dire tu repousses..\n
 Et pendant ce temps\, ton message n’est pas vu à sa juste valeur alors 
 et si c’était le moment de passer un cap ?\nLors de cet afterwork uniq
 ue en collaboration avec Movie Media\, une agence de production vidéo\, t
 u viens vivre une expérience complète pour booster ton image et ta visib
 ilité !\nLe concept est simple :Tu passes devant la caméra\, tu présent
 es ton activité et tu repars avec du contenu professionnel prêt à être
  utilisé !\nSur place\, tu seras accompagnée pour enregistrer :Une vidé
 o d’environ 1 minute pour présenter ton concept avec l'aide d'un prompt
 eur !Une photo portrait professionnelle pour tes réseaux (bonus haha!)\nL
 e tout dans une ambiance conviviale\, bienveillante et dynamique\, entre e
 ntrepreneuses.\nParce qu’ici\, on ne vient pas juste “essayer” on v
 ient oser\, se dépasser et repartir avec du concret.\nAu programme :\nUn 
 afterwork good vibesUn buffet à partagerUne expérience face caméra enca
 drée et un photo portrait professionnelleDes échanges inspirants\nUn mom
 ent puissant pour gagner en confiance\, affirmer ton image et faire passer
  ton business au niveau supérieur\, alors\, tu oses ?\nTarif total de l'
 événement : 50€ - Réserve ta place dès maintenant en réglant 25€ 
 sur le site et complète le paiement avec 25€ supplémentaires le jour d
 e l’événement sur place en espèces.\nTu es membre du club Girl Boss ?
  L'événement pour toi est à 45€ au lieu de 50€ ! Réserve ta place 
 dès maintenant en réglant 20€ sur le site avec ton code GIRL BOSS et c
 omplète le paiement avec 25€ supplémentaires le jour de l’événemen
 t sur place en espèces.\n 
GEO:43.1399617;6.008197099999999
LOCATION:1 Impasse Hubert Reeves 83160 La Valette-du-Var - FR
ORGANIZER:Particulier
END:VEVENT
END:VCALENDAR
