BEGIN:VCALENDAR
VERSION:2.0
CALSCALE:GREGORIAN
METHOD:PUBLISH
BEGIN:VEVENT
SUMMARY:Before Pride [Lakay x Blazin]
DTSTART:20260619T215500Z
DTEND:20260620T040000Z
DTSTAMP:20260422T234645Z
CATEGORIES:
DESCRIPTION:\nAvant la Pride\, c'est le Before Pride ! A la veille de la M
 arche des Fiertés de Rennes\, Les Trans confient les clés de l’Ubu au 
 collectif LAKAY qui invite le collectif parisien BLAZIN.\n\n	 \n\nBLAZIN 
 a pour vocation de mettre en lumière et de célébrer les cultures afro\,
  afro-descendantes et afro-caribéennes à Paris\, en France et dans le mo
 nde entier\, à travers les personnes qui font vivre ces cultures. Des val
 eurs et un son partagé·es par LAKAY (« la maison » en créole martiniq
 uais) pour nous offrir une soirée qui voguera entre riddims dancehall\, s
 hatta et bouyon\, ainsi que des sets mêlant hip hop\, R&B pop et afro-tra
 p.\n\nAprès sa performance aux dernières Trans Musicales\, Sugar Tantine
 \, fondatrice de LAKAY\, répond donc à nouveau à notre invitation\, acc
 ompagnée d’Ajuchan (DJ venue de Tokyo)\, de Malaureins (résidente de B
 LAZIN) et de la “Big Slime Sensei” en personne\, Shinobihana\, pour un
  showcase exceptionnel !\n\n	 \n\nUne nuit résolument queer qui s’anno
 nce fiévreuse\, une invitation au lâcher-prise de 23h à 5h\, avant de m
 archer ensemble pour célébrer la diversité des identités.\n
LOCATION:1 rue Saint Hélier 35000 RENNES - FR
ORGANIZER:ASSOCIATION TRANS MUSICALES
END:VEVENT
END:VCALENDAR
