BEGIN:VCALENDAR
VERSION:2.0
CALSCALE:GREGORIAN
METHOD:PUBLISH
BEGIN:VEVENT
SUMMARY:Le Cercle d'écriture
DTSTART:20260426T123000Z
DTEND:20260510T123000Z
DTSTAMP:20260422T084946Z
CATEGORIES:
DESCRIPTION:Et si tu t’accordais un moment rien qu’à toi ?\nÀ fleur 
 de texte – Cercle d’écriture\, c’est une parenthèse hors du quotid
 ien pour écrire\, ressentir et partager\, sans pression ni jugement.\nPen
 dant 2 heures\, je t’accompagne à travers des propositions d’écritur
 e accessibles et inspirantes. Pas besoin de savoir écrire “comme un éc
 rivain” : ici\, on vient comme on est\, avec ses mots\, ses doutes\, ses
  élans.\nÉcrire pour se libérerÉcrire pour se découvrirÉcrire pour p
 artager (si on en a envie)\nLe groupe est volontairement réduit pour pré
 server une atmosphère bienveillante et intime.\nChaque atelier est diffé
 rent\, guidé par des thèmes\, des images\, des émotions… et toujours 
 avec cette envie de faire circuler la parole et les mots.\nPour qui ?\n\n\
 nDébutants ou habitués\n\n\nCurieux\, sensibles\, rêveurs\n\n\nToute pe
 rsonne qui ressent le besoin d’écrire\n\n\nÀ prévoir\nUn carnet\, un 
 stylo (ou un ordi)… et l’envie de t’offrir ce moment.
GEO:43.60227219999999;1.4081604
LOCATION:1 Place de la Charte des Libertés Communales 31300 Toulouse - FR
ORGANIZER:Plum'day
END:VEVENT
END:VCALENDAR
