BEGIN:VCALENDAR
VERSION:2.0
CALSCALE:GREGORIAN
METHOD:PUBLISH
BEGIN:VEVENT
SUMMARY:BE FUNKY DIMANCHE 5 AVRIL 2026
DTSTART:20260405T180000Z
DTEND:20260406T020000Z
DTSTAMP:20260423T161242Z
CATEGORIES:
DESCRIPTION:
LOCATION:11\, boulevard Georges MELIES 94350  Villiers sur Marne - FR
ORGANIZER:LA FIESTA  
END:VEVENT
END:VCALENDAR
