BEGIN:VCALENDAR
VERSION:2.0
CALSCALE:GREGORIAN
METHOD:PUBLISH
BEGIN:VEVENT
SUMMARY:Transforme ta page d'accueil en aimant à clients !
DTSTART:20260414T080000Z
DTSTAMP:20260419T144314Z
CATEGORIES:
DESCRIPTION:La page d'accueil de ton site internet est souvent la premièr
 e impression que tu laisses\, et en quelques secondes\, tout se joue !\nSi
  elle n'est pas claire\, pas impactante ou mal structurée\, tu peux passe
 r à côté de clients sans même t'en rendre compte.\nLors de cet atelier
 \, Laura webdesigner t'accompagne pour comprendre les clés d'une page d'a
 ccueil efficace\, pensée pour capter l'attention\, donner envie de rester
  et surtout convertir.\nTu découvriras comment structurer ta page\, mettr
 e en valeur ton message et guider tes visiteurs de manière fluide et stra
 tégique.\nUn atelier concret pour prendre du recul sur ton site\, identif
 ier ce qui fonctionne (ou non) et repartir avec des pistes claires pour am
 éliorer ta visibilité en ligne !\nLe tout dans une ambiance conviviale e
 t bienveillante entre entrepreneuses.\nInclus dans la session :\n\nUne boi
 sson\nUne gourmandise\nLes conseils et l'expertise de Laura \n\nUn moment
  idéal pour faire évoluer ton site et attirer des clients plus facilemen
 t.\nTarif total de l'événement : 35€ - Réserve ta place dès maintena
 nt en réglant 15€ sur le site et complète le paiement avec 20€ suppl
 émentaires le jour de l’événement sur place en espèces.\nTu es membr
 e du club Girl Boss ? L'événement pour toi est à 25€ au lieu de 35€
  ! Réserve ta place dès maintenant en réglant 15€ sur le site et comp
 lète le paiement avec 10€ supplémentaires le jour de l’événement s
 ur place en espèces.
GEO:43.1230864;5.9313691
LOCATION:9 Rue César Vezzani 83000 Toulon - FR
ORGANIZER:Particulier
END:VEVENT
END:VCALENDAR
