BEGIN:VCALENDAR
VERSION:2.0
CALSCALE:GREGORIAN
METHOD:PUBLISH
BEGIN:VEVENT
SUMMARY:Task Force Transport\, Logistique et Douane - Standard Textile 
DTSTART:20260428T070000Z
DTEND:20260428T110000Z
DTSTAMP:20260422T195453Z
CATEGORIES:
DESCRIPTION:\nMardi 28 avril | 9h-13h\n\nNous avons le plaisir de vous con
 vier à une nouvelle session de la Task Force Transport\, Logistique et Do
 uane\, accueillie cette fois par Standard Textile (Rillieux-la-Pape)\, no
 uvellement membre de l'EACC. \n\nCette session abordera un sujet clé pou
 r les industriels opérant à l’international : la sécurisation de l’
 origine préférentielle dans des chaînes d’approvisionnement complexes
 .\n\nÀ travers un cas concret\, nous explorerons les problématiques lié
 es à l’ouvraison insuffisante\, aux règles de cumul d’origine et aux
  risques associés en matière de conformité douanière\, ainsi que les a
 lternatives possibles telles que le perfectionnement passif.\n\nLa rencont
 re sera également enrichie par un flash actu de Clasquin sur les tenda
 nces de marché en logistique et les enjeux géopolitiques impactant le
 s chaînes d’approvisionnement internationales.\n\nUn temps d’échange
  pour mieux comprendre les arbitrages entre conformité\, coûts et organi
 sation industrielle\, et partager retours d’expérience et bonnes pratiq
 ues.\n\nAvec les interventions de :\n\n\nFrançois ROBLIN\, directeur gén
 éral de Standard Textile et Aurélie Magri\, Directrice Supply Chain Eur
 ope\n\nTiphaine BERNARD\, avocate chez cabinet LHLF Avocats\n\nDavid CANA
 RD-VOLLAND\, vice-président Supply Chain chez Casquin \n\n\nLa Task For
 ce Transport\, Logistique et Douane est dédiée aux responsables supply 
 chain\, douane et commerce international des entreprises membres de l’EA
 CC.\n	Une séance découverte est ouverte aux non-membres souhaitant dé
 couvrir le fonctionnement de ce groupe de travail entre pairs.\n\nL'EACC 
 répond aux enjeux de développement international de ses membres via 6 g
 roupes de travail. Decouvrez le fonctionnement de la Task force Transport 
 Logistique et Douane ici.\n\nEn vous inscrivant\, vous donnez votre accord
  pour que des photos soient prises et diffusées sur nos différents rése
 aux. Merci de nous avertir si vous ne souhaitez pas être pris(e) en photo
 .\n
LOCATION:85 avenue de l’Industrie 69140 Rillieux-la-Pape - FR
ORGANIZER:European American Chamber of Commerce Auvergne-Rhône-Alpes
END:VEVENT
END:VCALENDAR
