BEGIN:VCALENDAR
VERSION:2.0
CALSCALE:GREGORIAN
METHOD:PUBLISH
BEGIN:VEVENT
SUMMARY:PASS SAMEDI - FESTIVAL MAGIC BUS
DTSTART:20260530T160000Z
DTEND:20260530T230000Z
DTSTAMP:20260425T152714Z
CATEGORIES:
DESCRIPTION:\n« Bienvenue aux étudiants Grenoble Alpes »\n\nDes place
 s gratuites et des offres uniques pour découvrir le territoire\nFree tick
 ets and unique offers to discover the territory\n\nCet évènement est ouv
 ert à tous les étudiants.\n\n	 \n\n	Pour célébrer sa 25ème édition\
 , le festival s'installe dans un lieu emblématique pour deux soirées de 
 concerts exceptionnelles.\n\n	Le samedi 30 mai\, la programmation se pours
 uivra avec des artistes aux univers variés\, allant du « piano-techno »
  de Mezerg à la poésie alternative du groupe Odezenne\, garantissant une
  immersion totale dans les musiques actuelles.\n\n	Le Magic Bus est un fes
 tival piloté par l’Association Retour de Scène depuis 1999. Véritable
  pilier de la culture grenobloise\, il permet de mettre en lumière les ta
 lents émergents aux côtés de têtes d'affiche nationales. Grâce au dis
 positif Bienvenue aux Étudiants\, vous avez l’opportunité d'assister g
 ratuitement à cet événement majeur de l'agglomération.\n\nAttention : 
 Votre inscription constitue un engagement ferme. Merci d'honorer votre pr
 ésence le jour de la sortie\, car toute défection prive un autre étudia
 nt d'une place limitée pour cette activité en plein air.\n\n	Si l'évèn
 ement est complet\, tu peux toujours te mettre sur liste d'attente\, en en
 voyant un mail à l'adresse ci-dessous.\n\nUne question ? Contacte nous à
  cette adresse : bienvenue.etu.grenoble.alpes@gmail.com\n\n	--\n\n	To cel
 ebrate its 25th anniversary\, the festival is taking over an iconic venue 
 for two exceptional nights of concerts.\n\n	On Saturday\, May 30\, the lin
 eup will continue with artists from diverse musical backgrounds—ranging 
 from Mezerg’s "piano-techno" to the alternative poetry of the group Odez
 enne\, guaranteeing a total immersion in contemporary music.\n\n	Magic Bus
  is a festival run by the Association Retour de Scène since 1999. As a tr
 ue pillar of the Grenoble cultural scene\, it highlights emerging talent a
 longside national headliners. Thanks to the Bienvenue aux Étudiants progr
 am\, you have the opportunity to attend this major local event for free.\n
 \nPlease note: Your registration constitutes a firm commitment. We ask tha
 t you honor your attendance on the day of the event\, as any absence depri
 ves another student of a limited spot for this outdoor activity.\n\n	If th
 e event is full\, you may join the waiting list by sending an email to the
  address below.\n\nAny questions? Contact us at: bienvenue.etu.grenoble.al
 pes@gmail.com\n\n\n	 \n\n	 \n
LOCATION:14 Boulevard Clemenceau 38000 Grenoble - FR
ORGANIZER:GRENOBLE ALPES METROPOLE
END:VEVENT
END:VCALENDAR
