BEGIN:VCALENDAR
VERSION:2.0
CALSCALE:GREGORIAN
METHOD:PUBLISH
BEGIN:VEVENT
SUMMARY:Vortrag: Vertrauen - die Superkraft der Kommunikation in Familie u
 nd Beruf
DTSTART:20260421T170000Z
DTSTAMP:20260421T175528Z
CATEGORIES:
DESCRIPTION:Nina Zvereva zeigt in ihrem neuen Vortrag\, wie Vertrauen nich
 t nur zu Hause entsteht\, sondern auch im Arbeitsalltag wachsen kann. Denn
  klar ist: Ohne Vertrauen läuft in einer Familie wenig rund. Doch wie bau
 t man dasselbe Fundament im Team auf? Wie erreicht man\, dass Kollegen ein
 em wirklich Glauben schenken?\nSie erklärt ausführlich\, wie man zu jema
 ndem wird\, dem man instinktiv zutraut\, ehrlich zu handeln\, selbst dann\
 , wenn die eigene Position auf den ersten Blick nichts mit Vertrauen zu tu
 n hat. Es geht nicht um Trickserei\, sondern um eine Art bewusste Aufricht
 igkeit\, die sich entwickeln lässt und in der täglichen Kommunikation er
 staunlich viel bewirkt.\nDer Vortrag hilft\, Antworten auf zentrale Fragen
  zu finden:- Was bedeutet Vertrauen in der heutigen Welt?- Welche Menschen
  genießen Vertrauen?- Weshalb gilt Vertrauen inzwischen als eines der st
 ärksten Werkzeuge moderner Kommunikation?- Wie entsteht eine Atmosphäre 
 des Vertrauens innerhalb einer Familie?- Wie schafft man im Job ein Team\,
  in dem Vertrauen selbstverständlich ist?- Wie gewinnt man das Vertrauen 
 eines Vorgesetzten – und sogar eines Konkurrenten?- Woran erkennt man Me
 nschen\, denen man selbst vertrauen kann?\nNina Zvereva ist Trainerin für
  öffentliches Reden für Topmanager internationaler Unternehmen und Polit
 iker\, Autorin von fünfundzwanzig Bestsellerbüchern und Gründerin einer
  eigenen Schule. Sich selbst nennt sie eine glückliche Lehrerin von mehr 
 als fünfundsechzigtausend Schülern.
GEO:52.5135209;13.3888922
LOCATION:176-179 Friedrichstraße 10117 Berlin - DE
ORGANIZER:Russisches Haus in Berlin
END:VEVENT
END:VCALENDAR
