BEGIN:VCALENDAR
VERSION:2.0
CALSCALE:GREGORIAN
METHOD:PUBLISH
BEGIN:VEVENT
SUMMARY:LEGAL HUB DAY - 18 juin 2026
DTSTART:20260618T073000Z
DTEND:20260618T143000Z
DTSTAMP:20260424T151739Z
CATEGORIES:
DESCRIPTION:\nPour cette seconde édition\, le barreau de Nantes propose u
 ne journée complète de conseils et rencontres aux entrepreneurs et chefs
  d'entreprise\, le LEGAL HUB DAY\, le jeudi 18 juin à la CCI\, le centre 
 des Salorges à Nantes.\n\nCette journée proposera 12 ateliers animés pa
 r des avocats\, des consultations gratuites\, un déjeuner en présence d'
 une personnalité de l'entrepreneuriat et des temps de networking.\n\nLa j
 ournée propose un panorama des enjeux et accompagnements juridiques auxqu
 els se confrontent les entrepreneurs : de la fiscalité aux questions RH\,
  des problématiques liées au statut de l'entrepreneur\, à la reprise ou
  transmission d'entreprise\, difficultés financières\, levers de fonds\,
  marché public ou développement à l'international\, autant de sujets qu
 i seront présentés par les avocats nantais accompagnés de témoins qui 
 partageront leur expérience personnelle.\n\n	 \n\n	Évènement organisé
  en partenariat avec l'Informateur Judiciaire\, la CCI Nantes-Saint Nazair
 e et la CPME 44.\n\n	 \n\n	 \n\nAu programme (programme détaillé à ve
 nir) : \n\n	 \n\n9h30 – Accueil du public autour d’un café\n\n	Pris
 es de parole d’ouverture\n\n	 \n\n10h / 16h30 – Consultation gratuite
  flash avec un avocat / une avocate\n\n	Possibilité pour les entrepreneur
 s / entreprises de solliciter une « consultation flash » de 20 minutes
  gratuite avec un avocat / une avocate dans un espace dédié. (sans rende
 z-vous)\n\n	 \n\n10h / 10h45 – 3 ateliers au choix\n\nAnimés par des a
 vocates et avocats du barreau de Nantes et un témoin entrepreneur\n\n	 \
 n\n10h45 / 11h15 – Pause networking informelle\n\n	 \n\n11h15 /12h – 
 3 ateliers au choix\n\nAnimés par des avocates et avocats du barreau de N
 antes et un témoin entrepreneur\n\n	 \n\n12h30 /14h - Déjeuner en prés
 ence d'une personnalité de l'entrepreunariat \n\n	Un déjeuner inspirant
  animé par un grand témoin dont le parcours éclairera les enjeux de tra
 nsformation\, de leadership et de prise de décision dans un monde en mouv
 ement. Un moment privilégié pour ouvrir de nouvelles perspectives.\n\n	L
 ’identité de notre grand témoin sera dévoilée très prochainement.\n
 \n	 \n\n14h30 / 15h15 – 3 ateliers au choix\n\nAnimés par des avocates
  et avocats du barreau de Nantes et un témoin entrepreneur\n\n	 \n\n15h1
 5 / 15h30 - Pause networking informelle\n\n	 \n\n15h30 / 16h15 – 3 atel
 iers au choix\n\nAnimés par des avocates et avocats du barreau de Nantes 
 et un témoin entrepreneur\n\n	 \n\nListe des 12 ateliers qui se déroule
 ront au cours de l'événement :\n\n	- Choisir le bon modèle commercial 
 : agent\, commissionnaire ou distributeur ?\n\n	- Salariés à l’étran
 ger : sécuriser social et fiscal sans complexité\n\n	- Préserver la va
 leur de votre entreprise : protéger l’immatériel\n\n	- La négociatio
 n contractuelle décryptée pour dirigeants pressés\n\n	- Céder son ent
 reprise : de l'intention à la signature sans faux pas\n\n	- Contrats & C
 GV : votre meilleur allié contre les litiges\n\n	- Boostez votre innovat
 ion : financements\, levées de fonds et leviers fiscaux\n\n	- Engager du
 rablement ses salariés : les dispositifs à activer\n\n	- Pénal : j’en
 treprends\, donc je risque\n\n	- Atelier droit immobilier\n\n	- Arbitrage
  et nouveaux modes de règlement amiable\n\n	- Atelier environnement / dr
 oit public \n\n	 \n\n	 \n\nEn présentiel uniquement\n\n	En pratique : 
 vous pouvez vous inscrire pour le déjeuner\, une consultation gratuite et
  les ateliers au choix en déroulant le menu ci-dessous\n\n	 \n
LOCATION:16 quai Ernest Renaud 44200 Nantes - FR
ORGANIZER:Ordre des avocats
END:VEVENT
END:VCALENDAR
