BEGIN:VCALENDAR
VERSION:2.0
CALSCALE:GREGORIAN
METHOD:PUBLISH
BEGIN:VEVENT
SUMMARY:PASS VENDREDI - FESTIVAL MAGIC BUS
DTSTART:20260529T160000Z
DTEND:20260629T230000Z
DTSTAMP:20260425T153508Z
CATEGORIES:
DESCRIPTION:\n« Bienvenue aux étudiants Grenoble Alpes »\n\nDes place
 s gratuites et des offres uniques pour découvrir le territoire\nFree tick
 ets and unique offers to discover the territory\n\nCet évènement est ouv
 ert à tous les étudiants.\n\n	 \n\n	Pour célébrer sa 25ème édition\
 , le festival s'installe dans un lieu emblématique pour deux soirées de 
 concerts exceptionnelles.\n\n	Le vendredi 29 mai\, la scène accueillera n
 otamment Adèle Castillon. Après le succès de Videoclub\, l'artiste dép
 loie aujourd'hui un univers solo où se mêlent pop acidulée et textes m
 élancoliques. Sa voix singulière et son énergie scénique promettent un
 e ouverture de festival mémorable.\n\n	Le Magic Bus est un festival pilot
 é par l’Association Retour de Scène depuis 1999. Véritable pilier de 
 la culture grenobloise\, il permet de mettre en lumière les talents émer
 gents aux côtés de têtes d'affiche nationales. Grâce au dispositif Bie
 nvenue aux Étudiants\, vous avez l’opportunité d'assister gratuitement
  à cet événement majeur de l'agglomération.\n\nAttention : Votre inscr
 iption constitue un engagement ferme. Merci d'honorer votre présence le j
 our de la sortie\, car toute défection prive un autre étudiant d'une pla
 ce limitée pour cette activité en plein air.\n\n	Si l'évènement est co
 mplet\, tu peux toujours te mettre sur liste d'attente\, en envoyant un ma
 il à l'adresse ci-dessous.\n\nUne question ? Contacte nous à cette adres
 se : bienvenue.etu.grenoble.alpes@gmail.com\n\n	 \n\n	--\n\n	To celebrat
 e its 25th edition\, the festival is taking over an iconic venue for two n
 ights of exceptional concerts.\n\n	On Friday\, May 29\, the stage will not
 ably welcome Adèle Castillon. Following the success of Videoclub\, the ar
 tist is now unfolding a solo universe that blends upbeat pop with melancho
 ly lyrics. Her singular voice and stage energy promise a memorable festiva
 l opening.\n\nMagic Bus is a festival managed by the Association Retour de
  Scène since 1999. A true pillar of Grenoble's cultural scene\, it highli
 ghts emerging talents alongside national headliners. Thanks to the Bienven
 ue aux Étudiants (Welcome to Students) initiative\, you have the opportun
 ity to attend this major metropolitan event free of charge.\n\nPlease note
 : Your registration constitutes a firm commitment. We ask that you honor y
 our attendance on the day of the event\, as any absence deprives another s
 tudent of a limited spot for this outdoor activity.\n\n	If the event is fu
 ll\, you may join the waiting list by sending an email to the address belo
 w.\n\nAny questions? Contact us at: bienvenue.etu.grenoble.alpes@gmail.com
 \n\n	 \n\n	 \n\n	 \n
LOCATION:14 Boulevard Clemenceau 38000 Grenoble - FR
ORGANIZER:GRENOBLE ALPES METROPOLE
END:VEVENT
END:VCALENDAR
