BEGIN:VCALENDAR
VERSION:2.0
CALSCALE:GREGORIAN
METHOD:PUBLISH
BEGIN:VEVENT
SUMMARY:Club Edouard 7 - Normandie  - Petit-déjeuner de networking\, vend
 redi 24 avril
DTSTART:20260424T063000Z
DTEND:20260424T083000Z
DTSTAMP:20260420T152553Z
CATEGORIES:
DESCRIPTION:\n	 \n\n\n\n\n\n\n\n\n\n\n\n\n\n\n\n\n\n\n\n\n\n\n\n\n\n\n\n\
 n\n\n\n																															 \n\n\n\n\n\n\n\n\n\n\n\n\n\n\n\n\n
 \n\n\n\n\n\n\n\n\n\n\n\n\n\n																																														
 											 \n\nVenez profiter des rencontres du Club Edouard 7 - Normand
 ie\n\n																																																									 \n\nVendr
 edi 24 avril de 8h30 à 10h30 \n\n																																							
 																		 \n\n																																																		
 							 \n\nTennis de Deauville\n\nBd de la Mer\, 14800 Deauville\n\n				
 																																																					 \n\n															
 																																										 \n\nParticipation :\n\n\n•
       Membres : 25 € TTC\n\n																																					
 																					 \n\n•      Découverte : 30 € TTC Limit
 ée aux 10 premiers inscrits et valable une seule fois\n\n																
 																																										 \n\nBoisson chaude\, viennoise
 ries\, \n\ntartines\, jus d'orange \n\n																																	
 																									 \n\nInscription obligatoire\n\n																
 																																										 \n\n\n																								
 																																	 \n\n																																			
 																						 \n\n\n\n\n\n\n\n\n\n\n\n\n\n\n\n\n\n\n\n\n\n\n\n\n
 \n\n\n\n\n																															 \n\n\n\n\n\n\n\n															
 										 \n\n\n\n\n\n\n\n\n\n\n\n\n\n\n\n\n\n\n\n\n\n\n\n\n\n	 \n
LOCATION:Bd de la Mer 14800 Deauville - FR
ORGANIZER:Club Edouard VII
END:VEVENT
END:VCALENDAR
