BEGIN:VCALENDAR
VERSION:2.0
CALSCALE:GREGORIAN
METHOD:PUBLISH
BEGIN:VEVENT
SUMMARY:THE ABYSSINIANS + BIG YOUTH
DTSTART:20260513T183000Z
DTEND:20260513T223000Z
DTSTAMP:20260420T014437Z
CATEGORIES:
DESCRIPTION:\nDeux figures majeures du reggae roots jamaïcain réunis sur
  le même plateau ! Exceptionnel ! \n\nTHE ABYSSINIANS sont un des trios
  les plus célèbres de l'histoire du reggae\, célèbres pour leurs harmo
 nies vocales et leurs paroles spirituelles inspirées du mouvement rastafa
 ri. \n\nFondé à la fin des années 1960\, le groupe entre dans l’histo
 ire avec Satta Massagana\, hymne rasta chanté en partie en amharique\, de
 venu l’un des morceaux les plus repris du reggae. Leur musique\, à la f
 ois mystique et militante\, s’impose dans les années 1970 avec des albu
 ms majeurs comme Forward on to Zion\, et continue d’influencer artistes 
 et producteurs jusqu’à aujourd’hui\, faisant d’eux des références
  incontournables du reggae conscient. \n\nBIG YOUTH\, de son vrai nom Manl
 ey Augustus Buchanan\, est l’un des deejays les plus influents des anné
 es 1970\, reconnu pour son style de toasting mi-chanté\, engagé et profo
 ndément connecté aux réalités sociales jamaïcaines. \n\nAprès des d
 ébuts difficiles\, il connaît un immense succès avec des titres devenus
  cultes comme S-90 Skank et l’album Screaming Target\, aujourd’hui con
 sidéré comme un pilier du reggae. Malgré un recul de popularité à la 
 fin des années 1970\, il reste une figure respectée\, dont la carrière 
 s’étend sur plusieurs décennies\, marquée par des retours salués et 
 une influence durable sur le reggae et le dub.\n
LOCATION:ZA LA BRISSE 47800 MIRAMONT DE GUYENNE - FR
ORGANIZER:ASSOCIATION STACCATO
END:VEVENT
END:VCALENDAR
